BEGIN:VCALENDAR
VERSION:2.0
PRODID:-//Troef Theater - ECPv6.15.20//NONSGML v1.0//EN
CALSCALE:GREGORIAN
METHOD:PUBLISH
X-ORIGINAL-URL:https://www.troef-theater.nl
X-WR-CALDESC:Evenementen voor Troef Theater
REFRESH-INTERVAL;VALUE=DURATION:PT1H
X-Robots-Tag:noindex
X-PUBLISHED-TTL:PT1H
BEGIN:VTIMEZONE
TZID:Europe/Amsterdam
BEGIN:DAYLIGHT
TZOFFSETFROM:+0100
TZOFFSETTO:+0200
TZNAME:CEST
DTSTART:20250330T010000
END:DAYLIGHT
BEGIN:STANDARD
TZOFFSETFROM:+0200
TZOFFSETTO:+0100
TZNAME:CET
DTSTART:20251026T010000
END:STANDARD
BEGIN:DAYLIGHT
TZOFFSETFROM:+0100
TZOFFSETTO:+0200
TZNAME:CEST
DTSTART:20260329T010000
END:DAYLIGHT
BEGIN:STANDARD
TZOFFSETFROM:+0200
TZOFFSETTO:+0100
TZNAME:CET
DTSTART:20261025T010000
END:STANDARD
BEGIN:DAYLIGHT
TZOFFSETFROM:+0100
TZOFFSETTO:+0200
TZNAME:CEST
DTSTART:20270328T010000
END:DAYLIGHT
BEGIN:STANDARD
TZOFFSETFROM:+0200
TZOFFSETTO:+0100
TZNAME:CET
DTSTART:20271031T010000
END:STANDARD
END:VTIMEZONE
BEGIN:VEVENT
DTSTART;VALUE=DATE:20260603
DTEND;VALUE=DATE:20260604
DTSTAMP:20260421T161747
CREATED:20250904T055446Z
LAST-MODIFIED:20250904T055446Z
UID:16960-1780444800-1780531199@www.troef-theater.nl
SUMMARY:Montessori Kindcentrum Montijn - Beuningen
DESCRIPTION:Kist vol avontuur
URL:https://www.troef-theater.nl/event/montessori-kindcentrum-montijn-beuningen/
END:VEVENT
BEGIN:VEVENT
DTSTART;VALUE=DATE:20260613
DTEND;VALUE=DATE:20260614
DTSTAMP:20260421T161747
CREATED:20260317T085211Z
LAST-MODIFIED:20260317T085543Z
UID:18062-1781308800-1781395199@www.troef-theater.nl
SUMMARY:Schaapscheerdersfeest - Ginkelse Heide / Ede
DESCRIPTION:De liedjeskist
URL:https://www.troef-theater.nl/event/schaapscheerdersfestival-ginkelse-heide/
END:VEVENT
BEGIN:VEVENT
DTSTART;VALUE=DATE:20260617
DTEND;VALUE=DATE:20260618
DTSTAMP:20260421T161747
CREATED:20260105T153332Z
LAST-MODIFIED:20260105T153332Z
UID:17699-1781654400-1781740799@www.troef-theater.nl
SUMMARY:Gedachteniskerk - Rhenen
DESCRIPTION:Doorgedraaid
URL:https://www.troef-theater.nl/event/gedachteniskerk-rhenen-5/
END:VEVENT
BEGIN:VEVENT
DTSTART;VALUE=DATE:20260624
DTEND;VALUE=DATE:20260625
DTSTAMP:20260421T161747
CREATED:20250708T111504Z
LAST-MODIFIED:20250708T111504Z
UID:16889-1782259200-1782345599@www.troef-theater.nl
SUMMARY:Montessorischool Aan De Basis - Veenendaal
DESCRIPTION:Belletje lellen
URL:https://www.troef-theater.nl/event/montessorischool-aan-de-basis-veenendaal/
END:VEVENT
BEGIN:VEVENT
DTSTART;VALUE=DATE:20260627
DTEND;VALUE=DATE:20260628
DTSTAMP:20260421T161747
CREATED:20260317T085807Z
LAST-MODIFIED:20260317T085923Z
UID:18066-1782518400-1782604799@www.troef-theater.nl
SUMMARY:Liemers Midzomerfestival - Zevenaar
DESCRIPTION:De liedjeskist
URL:https://www.troef-theater.nl/event/liemers-midzomerfestival-zevenaar/
END:VEVENT
END:VCALENDAR