BEGIN:VCALENDAR
VERSION:2.0
PRODID:-//Troef Theater - ECPv6.15.20//NONSGML v1.0//EN
CALSCALE:GREGORIAN
METHOD:PUBLISH
X-WR-CALNAME:Troef Theater
X-ORIGINAL-URL:https://www.troef-theater.nl
X-WR-CALDESC:Evenementen voor Troef Theater
REFRESH-INTERVAL;VALUE=DURATION:PT1H
X-Robots-Tag:noindex
X-PUBLISHED-TTL:PT1H
BEGIN:VTIMEZONE
TZID:Europe/Amsterdam
BEGIN:DAYLIGHT
TZOFFSETFROM:+0100
TZOFFSETTO:+0200
TZNAME:CEST
DTSTART:20250330T010000
END:DAYLIGHT
BEGIN:STANDARD
TZOFFSETFROM:+0200
TZOFFSETTO:+0100
TZNAME:CET
DTSTART:20251026T010000
END:STANDARD
BEGIN:DAYLIGHT
TZOFFSETFROM:+0100
TZOFFSETTO:+0200
TZNAME:CEST
DTSTART:20260329T010000
END:DAYLIGHT
BEGIN:STANDARD
TZOFFSETFROM:+0200
TZOFFSETTO:+0100
TZNAME:CET
DTSTART:20261025T010000
END:STANDARD
BEGIN:DAYLIGHT
TZOFFSETFROM:+0100
TZOFFSETTO:+0200
TZNAME:CEST
DTSTART:20270328T010000
END:DAYLIGHT
BEGIN:STANDARD
TZOFFSETFROM:+0200
TZOFFSETTO:+0100
TZNAME:CET
DTSTART:20271031T010000
END:STANDARD
END:VTIMEZONE
BEGIN:VEVENT
DTSTART;VALUE=DATE:20260506
DTEND;VALUE=DATE:20260507
DTSTAMP:20260421T150824
CREATED:20260105T153258Z
LAST-MODIFIED:20260105T153258Z
UID:17697-1778025600-1778111999@www.troef-theater.nl
SUMMARY:Gedachteniskerk - Rhenen
DESCRIPTION:Allemaal beestjes
URL:https://www.troef-theater.nl/event/gedachteniskerk-rhenen-4/
END:VEVENT
BEGIN:VEVENT
DTSTART;VALUE=DATE:20260513
DTEND;VALUE=DATE:20260514
DTSTAMP:20260421T150824
CREATED:20260317T085057Z
LAST-MODIFIED:20260317T085057Z
UID:18060-1778630400-1778716799@www.troef-theater.nl
SUMMARY:Sint Maartenschool - Ubbergen
DESCRIPTION:De liedjeskist
URL:https://www.troef-theater.nl/event/sint-maartenschool-ubbergen-4/
END:VEVENT
BEGIN:VEVENT
DTSTART;VALUE=DATE:20260517
DTEND;VALUE=DATE:20260518
DTSTAMP:20260421T150824
CREATED:20250304T080604Z
LAST-MODIFIED:20250304T080604Z
UID:16111-1778976000-1779062399@www.troef-theater.nl
SUMMARY:Schouwburg - Cuijk
DESCRIPTION:Niets te wensen
URL:https://www.troef-theater.nl/event/schouwburg-cuijk-6/
END:VEVENT
BEGIN:VEVENT
DTSTART;VALUE=DATE:20260520
DTEND;VALUE=DATE:20260521
DTSTAMP:20260421T150824
CREATED:20250618T060408Z
LAST-MODIFIED:20250618T060450Z
UID:16808-1779235200-1779321599@www.troef-theater.nl
SUMMARY:TOV Basisschool - Veenendaal
DESCRIPTION:Allemaal beestjes
URL:https://www.troef-theater.nl/event/tov-school-veenendaal/
END:VEVENT
BEGIN:VEVENT
DTSTART;VALUE=DATE:20260521
DTEND;VALUE=DATE:20260522
DTSTAMP:20260421T150824
CREATED:20251007T152216Z
LAST-MODIFIED:20251007T152216Z
UID:17259-1779321600-1779407999@www.troef-theater.nl
SUMMARY:CBS Het Baken - Veenendaal
DESCRIPTION:Allemaal beestjes
URL:https://www.troef-theater.nl/event/cbs-het-baken-veenendaal-2/
END:VEVENT
BEGIN:VEVENT
DTSTART;TZID=Europe/Amsterdam:20260527T080000
DTEND;TZID=Europe/Amsterdam:20260527T170000
DTSTAMP:20260421T150824
CREATED:20260403T113007Z
LAST-MODIFIED:20260403T113823Z
UID:18094-1779868800-1779901200@www.troef-theater.nl
SUMMARY:IKC Donatushof - Bemmel
DESCRIPTION:Muziekles in de klas
URL:https://www.troef-theater.nl/event/ikc-donatushof-bemmel-2/
END:VEVENT
BEGIN:VEVENT
DTSTART;VALUE=DATE:20260528
DTEND;VALUE=DATE:20260529
DTSTAMP:20260421T150824
CREATED:20260403T094019Z
LAST-MODIFIED:20260403T121836Z
UID:18092-1779926400-1780012799@www.troef-theater.nl
SUMMARY:CBS Tamim - Veenendaal
DESCRIPTION:Nieuwe hoed
URL:https://www.troef-theater.nl/event/cbs-tamim-veenendaal/
END:VEVENT
END:VCALENDAR