BEGIN:VCALENDAR
VERSION:2.0
PRODID:-//Troef Theater - ECPv6.15.20//NONSGML v1.0//EN
CALSCALE:GREGORIAN
METHOD:PUBLISH
X-WR-CALNAME:Troef Theater
X-ORIGINAL-URL:https://www.troef-theater.nl
X-WR-CALDESC:Evenementen voor Troef Theater
REFRESH-INTERVAL;VALUE=DURATION:PT1H
X-Robots-Tag:noindex
X-PUBLISHED-TTL:PT1H
BEGIN:VTIMEZONE
TZID:Europe/Amsterdam
BEGIN:DAYLIGHT
TZOFFSETFROM:+0100
TZOFFSETTO:+0200
TZNAME:CEST
DTSTART:20240331T010000
END:DAYLIGHT
BEGIN:STANDARD
TZOFFSETFROM:+0200
TZOFFSETTO:+0100
TZNAME:CET
DTSTART:20241027T010000
END:STANDARD
BEGIN:DAYLIGHT
TZOFFSETFROM:+0100
TZOFFSETTO:+0200
TZNAME:CEST
DTSTART:20250330T010000
END:DAYLIGHT
BEGIN:STANDARD
TZOFFSETFROM:+0200
TZOFFSETTO:+0100
TZNAME:CET
DTSTART:20251026T010000
END:STANDARD
BEGIN:DAYLIGHT
TZOFFSETFROM:+0100
TZOFFSETTO:+0200
TZNAME:CEST
DTSTART:20260329T010000
END:DAYLIGHT
BEGIN:STANDARD
TZOFFSETFROM:+0200
TZOFFSETTO:+0100
TZNAME:CET
DTSTART:20261025T010000
END:STANDARD
END:VTIMEZONE
BEGIN:VEVENT
DTSTART;VALUE=DATE:20250205
DTEND;VALUE=DATE:20250206
DTSTAMP:20260422T080800
CREATED:20240930T144956Z
LAST-MODIFIED:20240930T144956Z
UID:15388-1738713600-1738799999@www.troef-theater.nl
SUMMARY:Wereldkidz Mozaïek Petenbos - Veenendaal
DESCRIPTION:Belletje lellen
URL:https://www.troef-theater.nl/event/wereldkidz-mozaiek-petenbos-veenendaal/
END:VEVENT
BEGIN:VEVENT
DTSTART;VALUE=DATE:20250206
DTEND;VALUE=DATE:20250207
DTSTAMP:20260422T080800
CREATED:20240614T155640Z
LAST-MODIFIED:20240614T155640Z
UID:14864-1738800000-1738886399@www.troef-theater.nl
SUMMARY:Verrassing – Geheime locatie
DESCRIPTION:Verras de klas
URL:https://www.troef-theater.nl/event/verrassing-geheime-locatie-4/
END:VEVENT
BEGIN:VEVENT
DTSTART;VALUE=DATE:20250212
DTEND;VALUE=DATE:20250213
DTSTAMP:20260422T080800
CREATED:20240628T063313Z
LAST-MODIFIED:20240628T063336Z
UID:14903-1739318400-1739404799@www.troef-theater.nl
SUMMARY:BS De Bron - Veenendaal
DESCRIPTION:Belletje lellen
URL:https://www.troef-theater.nl/event/de-bron-veenendaal/
END:VEVENT
BEGIN:VEVENT
DTSTART;VALUE=DATE:20250213
DTEND;VALUE=DATE:20250214
DTSTAMP:20260422T080800
CREATED:20240924T142755Z
LAST-MODIFIED:20240924T142755Z
UID:15305-1739404800-1739491199@www.troef-theater.nl
SUMMARY:IKC Het Sterrenbos - Huissen
DESCRIPTION:Muziekles in de klas
URL:https://www.troef-theater.nl/event/ikc-het-sterrenbos-huissen-3/
END:VEVENT
BEGIN:VEVENT
DTSTART;VALUE=DATE:20250219
DTEND;VALUE=DATE:20250220
DTSTAMP:20260422T080800
CREATED:20240913T081325Z
LAST-MODIFIED:20240913T081325Z
UID:15224-1739923200-1740009599@www.troef-theater.nl
SUMMARY:OBS De Trinoom - Wijchen
DESCRIPTION:Nieuwe hoed
URL:https://www.troef-theater.nl/event/obs-de-trinoom-wijchen/
END:VEVENT
BEGIN:VEVENT
DTSTART;VALUE=DATE:20250220
DTEND;VALUE=DATE:20250221
DTSTAMP:20260422T080800
CREATED:20241015T144725Z
LAST-MODIFIED:20241015T144735Z
UID:15465-1740009600-1740095999@www.troef-theater.nl
SUMMARY:Verrassing - Geheime locatie
DESCRIPTION:Verras de klas
URL:https://www.troef-theater.nl/event/verrassing-geheime-locatie-5/
END:VEVENT
BEGIN:VEVENT
DTSTART;VALUE=DATE:20250226
DTEND;VALUE=DATE:20250227
DTSTAMP:20260422T080800
CREATED:20240905T181843Z
LAST-MODIFIED:20240905T181937Z
UID:15204-1740528000-1740614399@www.troef-theater.nl
SUMMARY:Verrassing - geheime locatie
DESCRIPTION:Verras de klas
URL:https://www.troef-theater.nl/event/verrassing-geheime-locatie-7/
END:VEVENT
BEGIN:VEVENT
DTSTART;VALUE=DATE:20250227
DTEND;VALUE=DATE:20250228
DTSTAMP:20260422T080800
CREATED:20240924T142835Z
LAST-MODIFIED:20240924T142835Z
UID:15307-1740614400-1740700799@www.troef-theater.nl
SUMMARY:IKC Het Sterrenbos - Huissen
DESCRIPTION:Muziekles in de klas
URL:https://www.troef-theater.nl/event/ikc-het-sterrenbos-huissen-4/
END:VEVENT
END:VCALENDAR