BEGIN:VCALENDAR
VERSION:2.0
PRODID:-//Troef Theater - ECPv6.15.20//NONSGML v1.0//EN
CALSCALE:GREGORIAN
METHOD:PUBLISH
X-ORIGINAL-URL:https://www.troef-theater.nl
X-WR-CALDESC:Evenementen voor Troef Theater
REFRESH-INTERVAL;VALUE=DURATION:PT1H
X-Robots-Tag:noindex
X-PUBLISHED-TTL:PT1H
BEGIN:VTIMEZONE
TZID:Europe/Amsterdam
BEGIN:DAYLIGHT
TZOFFSETFROM:+0100
TZOFFSETTO:+0200
TZNAME:CEST
DTSTART:20240331T010000
END:DAYLIGHT
BEGIN:STANDARD
TZOFFSETFROM:+0200
TZOFFSETTO:+0100
TZNAME:CET
DTSTART:20241027T010000
END:STANDARD
BEGIN:DAYLIGHT
TZOFFSETFROM:+0100
TZOFFSETTO:+0200
TZNAME:CEST
DTSTART:20250330T010000
END:DAYLIGHT
BEGIN:STANDARD
TZOFFSETFROM:+0200
TZOFFSETTO:+0100
TZNAME:CET
DTSTART:20251026T010000
END:STANDARD
BEGIN:DAYLIGHT
TZOFFSETFROM:+0100
TZOFFSETTO:+0200
TZNAME:CEST
DTSTART:20260329T010000
END:DAYLIGHT
BEGIN:STANDARD
TZOFFSETFROM:+0200
TZOFFSETTO:+0100
TZNAME:CET
DTSTART:20261025T010000
END:STANDARD
END:VTIMEZONE
BEGIN:VEVENT
DTSTART;VALUE=DATE:20250108
DTEND;VALUE=DATE:20250109
DTSTAMP:20260422T093643
CREATED:20240930T150216Z
LAST-MODIFIED:20240930T150248Z
UID:15399-1736294400-1736380799@www.troef-theater.nl
SUMMARY:IKC Remigius - Duiven
DESCRIPTION:Doorgedraaid
URL:https://www.troef-theater.nl/event/ikc-remigius-duiven/
END:VEVENT
BEGIN:VEVENT
DTSTART;VALUE=DATE:20250109
DTEND;VALUE=DATE:20250110
DTSTAMP:20260422T093643
CREATED:20240924T142656Z
LAST-MODIFIED:20240924T142656Z
UID:15303-1736380800-1736467199@www.troef-theater.nl
SUMMARY:IKC Het Sterrenbos - Huissen
DESCRIPTION:Muziekles in de klas
URL:https://www.troef-theater.nl/event/ikc-het-sterrenbos-huissen-2/
END:VEVENT
BEGIN:VEVENT
DTSTART;VALUE=DATE:20250115
DTEND;VALUE=DATE:20250116
DTSTAMP:20260422T093643
CREATED:20240624T113228Z
LAST-MODIFIED:20240624T113235Z
UID:14880-1736899200-1736985599@www.troef-theater.nl
SUMMARY:Cultuur en school - Nijmegen
DESCRIPTION:Allemaal beestjes
URL:https://www.troef-theater.nl/event/cultuur-en-school-nijmegen-6/
END:VEVENT
BEGIN:VEVENT
DTSTART;VALUE=DATE:20250116
DTEND;VALUE=DATE:20250117
DTSTAMP:20260422T093643
CREATED:20240703T163904Z
LAST-MODIFIED:20240703T163904Z
UID:14943-1736985600-1737071999@www.troef-theater.nl
SUMMARY:Verrassing - geheime locatie
DESCRIPTION:Verras de klas
URL:https://www.troef-theater.nl/event/verrassing-geheime-locatie-6/
END:VEVENT
BEGIN:VEVENT
DTSTART;VALUE=DATE:20250122
DTEND;VALUE=DATE:20250123
DTSTAMP:20260422T093643
CREATED:20240621T160126Z
LAST-MODIFIED:20240621T160126Z
UID:14877-1737504000-1737590399@www.troef-theater.nl
SUMMARY:Cultuur en school - Nijmegen
DESCRIPTION:Allemaal beestjes
URL:https://www.troef-theater.nl/event/cultuur-en-school-nijmegen-5/
END:VEVENT
BEGIN:VEVENT
DTSTART;VALUE=DATE:20250123
DTEND;VALUE=DATE:20250124
DTSTAMP:20260422T093643
CREATED:20240930T150704Z
LAST-MODIFIED:20240930T150733Z
UID:15403-1737590400-1737676799@www.troef-theater.nl
SUMMARY:Gooilandschool - Bussum
DESCRIPTION:Nieuwe hoed
URL:https://www.troef-theater.nl/event/gooilandschool-bussum/
END:VEVENT
BEGIN:VEVENT
DTSTART;VALUE=DATE:20250126
DTEND;VALUE=DATE:20250127
DTSTAMP:20260422T093643
CREATED:20241223T082319Z
LAST-MODIFIED:20250113T112150Z
UID:15761-1737849600-1737935999@www.troef-theater.nl
SUMMARY:Nationaal Theater Weekend - Schouwburg Cuijk
DESCRIPTION:Belletje lellen | 14.00 uur en 16.00 uur | Meer info en kaartjes: Troef Theater — Belletje lellen (3+) – Nationaal Theaterweekend | Schouwburg Cuijk
URL:https://www.troef-theater.nl/event/schouwburg-cuijk-2/
END:VEVENT
BEGIN:VEVENT
DTSTART;VALUE=DATE:20250129
DTEND;VALUE=DATE:20250130
DTSTAMP:20260422T093643
CREATED:20240930T150851Z
LAST-MODIFIED:20240930T150851Z
UID:15405-1738108800-1738195199@www.troef-theater.nl
SUMMARY:Cultuur en school - Nijmegen
DESCRIPTION:Allemaal beestjes
URL:https://www.troef-theater.nl/event/cultuur-en-school-nijmegen-8/
END:VEVENT
BEGIN:VEVENT
DTSTART;VALUE=DATE:20250130
DTEND;VALUE=DATE:20250131
DTSTAMP:20260422T093643
CREATED:20240703T164210Z
LAST-MODIFIED:20240703T164238Z
UID:14949-1738195200-1738281599@www.troef-theater.nl
SUMMARY:Wereldkidz De Vlieger - Veenendaal
DESCRIPTION:Muziekles in de klas
URL:https://www.troef-theater.nl/event/wereldkidz-de-vlieger-veenendaal-3/
END:VEVENT
END:VCALENDAR