BEGIN:VCALENDAR
VERSION:2.0
PRODID:-//Troef Theater - ECPv6.15.20//NONSGML v1.0//EN
CALSCALE:GREGORIAN
METHOD:PUBLISH
X-ORIGINAL-URL:https://www.troef-theater.nl
X-WR-CALDESC:Evenementen voor Troef Theater
REFRESH-INTERVAL;VALUE=DURATION:PT1H
X-Robots-Tag:noindex
X-PUBLISHED-TTL:PT1H
BEGIN:VTIMEZONE
TZID:Europe/Amsterdam
BEGIN:DAYLIGHT
TZOFFSETFROM:+0100
TZOFFSETTO:+0200
TZNAME:CEST
DTSTART:20230326T010000
END:DAYLIGHT
BEGIN:STANDARD
TZOFFSETFROM:+0200
TZOFFSETTO:+0100
TZNAME:CET
DTSTART:20231029T010000
END:STANDARD
BEGIN:DAYLIGHT
TZOFFSETFROM:+0100
TZOFFSETTO:+0200
TZNAME:CEST
DTSTART:20240331T010000
END:DAYLIGHT
BEGIN:STANDARD
TZOFFSETFROM:+0200
TZOFFSETTO:+0100
TZNAME:CET
DTSTART:20241027T010000
END:STANDARD
BEGIN:DAYLIGHT
TZOFFSETFROM:+0100
TZOFFSETTO:+0200
TZNAME:CEST
DTSTART:20250330T010000
END:DAYLIGHT
BEGIN:STANDARD
TZOFFSETFROM:+0200
TZOFFSETTO:+0100
TZNAME:CET
DTSTART:20251026T010000
END:STANDARD
END:VTIMEZONE
BEGIN:VEVENT
DTSTART;VALUE=DATE:20241103
DTEND;VALUE=DATE:20241104
DTSTAMP:20260422T122307
CREATED:20241029T165409Z
LAST-MODIFIED:20241029T165409Z
UID:15515-1730592000-1730678399@www.troef-theater.nl
SUMMARY:Schouwburg - Cuijk
DESCRIPTION:De Liedjeskist
URL:https://www.troef-theater.nl/event/schouwburg-cuijk/
END:VEVENT
BEGIN:VEVENT
DTSTART;VALUE=DATE:20241106
DTEND;VALUE=DATE:20241107
DTSTAMP:20260422T122307
CREATED:20240621T160046Z
LAST-MODIFIED:20240621T160046Z
UID:14875-1730851200-1730937599@www.troef-theater.nl
SUMMARY:Cultuur en school - Nijmegen
DESCRIPTION:Allemaal beestjes
URL:https://www.troef-theater.nl/event/cultuur-en-school-nijmegen-4/
END:VEVENT
BEGIN:VEVENT
DTSTART;VALUE=DATE:20241107
DTEND;VALUE=DATE:20241108
DTSTAMP:20260422T122307
CREATED:20240930T145627Z
LAST-MODIFIED:20240930T145627Z
UID:15395-1730937600-1731023999@www.troef-theater.nl
SUMMARY:VSO Talita Koemi - Nijmegen
DESCRIPTION:Het Schoolconcert
URL:https://www.troef-theater.nl/event/vso-talita-koemi-nijmegen-2/
END:VEVENT
BEGIN:VEVENT
DTSTART;VALUE=DATE:20241113
DTEND;VALUE=DATE:20241114
DTSTAMP:20260422T122307
CREATED:20240628T131134Z
LAST-MODIFIED:20240628T131142Z
UID:14906-1731456000-1731542399@www.troef-theater.nl
SUMMARY:Basisschool TOV - Veenendaal
DESCRIPTION:De liedjeskist
URL:https://www.troef-theater.nl/event/basisschool-tov-veenendaal/
END:VEVENT
BEGIN:VEVENT
DTSTART;VALUE=DATE:20241114
DTEND;VALUE=DATE:20241115
DTSTAMP:20260422T122307
CREATED:20240703T164040Z
LAST-MODIFIED:20240703T164040Z
UID:14945-1731542400-1731628799@www.troef-theater.nl
SUMMARY:Wereldkidz De Vlieger - Veenendaal
DESCRIPTION:Muziekles in de klas
URL:https://www.troef-theater.nl/event/wereldkidz-de-vlieger-veenendaal/
END:VEVENT
BEGIN:VEVENT
DTSTART;VALUE=DATE:20241120
DTEND;VALUE=DATE:20241121
DTSTAMP:20260422T122307
CREATED:20240614T063900Z
LAST-MODIFIED:20240614T064448Z
UID:14853-1732060800-1732147199@www.troef-theater.nl
SUMMARY:Dr. Lammerts van Buerenschool - Zetten
DESCRIPTION:Sinterklaas voorstelling
URL:https://www.troef-theater.nl/event/lammerts-van-buerenschool-zetten/
END:VEVENT
BEGIN:VEVENT
DTSTART;VALUE=DATE:20241121
DTEND;VALUE=DATE:20241122
DTSTAMP:20260422T122307
CREATED:20240604T144932Z
LAST-MODIFIED:20240930T150325Z
UID:14733-1732147200-1732233599@www.troef-theater.nl
SUMMARY:SO Talita Koemi - Nijmegen
DESCRIPTION:Sinterklaas voorstelling
URL:https://www.troef-theater.nl/event/talita-koemi-so-nijmegen/
END:VEVENT
BEGIN:VEVENT
DTSTART;VALUE=DATE:20241127
DTEND;VALUE=DATE:20241128
DTSTAMP:20260422T122307
CREATED:20240625T212926Z
LAST-MODIFIED:20241021T055424Z
UID:14900-1732665600-1732751999@www.troef-theater.nl
SUMMARY:De Vuurvlinder - Veenendaal
DESCRIPTION:Sinterklaas voorstelling
URL:https://www.troef-theater.nl/event/de-vuurvlinder-veenendaal-2/
END:VEVENT
BEGIN:VEVENT
DTSTART;VALUE=DATE:20241128
DTEND;VALUE=DATE:20241129
DTSTAMP:20260422T122307
CREATED:20240905T182337Z
LAST-MODIFIED:20240905T182548Z
UID:15208-1732752000-1732838399@www.troef-theater.nl
SUMMARY:BS De Burcht - Veenendaal
DESCRIPTION:Sinterklaas voorstelling
URL:https://www.troef-theater.nl/event/bs-de-burcht-veenendaal-2/
END:VEVENT
BEGIN:VEVENT
DTSTART;VALUE=DATE:20241130
DTEND;VALUE=DATE:20241201
DTSTAMP:20260422T122307
CREATED:20241104T152925Z
LAST-MODIFIED:20241104T152925Z
UID:15541-1732924800-1733011199@www.troef-theater.nl
SUMMARY:Besloten optreden
DESCRIPTION:Sinterklaas voorstelling
URL:https://www.troef-theater.nl/event/besloten-optreden/
END:VEVENT
END:VCALENDAR