BEGIN:VCALENDAR
VERSION:2.0
PRODID:-//Troef Theater - ECPv6.15.20//NONSGML v1.0//EN
CALSCALE:GREGORIAN
METHOD:PUBLISH
X-ORIGINAL-URL:https://www.troef-theater.nl
X-WR-CALDESC:Evenementen voor Troef Theater
REFRESH-INTERVAL;VALUE=DURATION:PT1H
X-Robots-Tag:noindex
X-PUBLISHED-TTL:PT1H
BEGIN:VTIMEZONE
TZID:Europe/Amsterdam
BEGIN:DAYLIGHT
TZOFFSETFROM:+0100
TZOFFSETTO:+0200
TZNAME:CEST
DTSTART:20230326T010000
END:DAYLIGHT
BEGIN:STANDARD
TZOFFSETFROM:+0200
TZOFFSETTO:+0100
TZNAME:CET
DTSTART:20231029T010000
END:STANDARD
BEGIN:DAYLIGHT
TZOFFSETFROM:+0100
TZOFFSETTO:+0200
TZNAME:CEST
DTSTART:20240331T010000
END:DAYLIGHT
BEGIN:STANDARD
TZOFFSETFROM:+0200
TZOFFSETTO:+0100
TZNAME:CET
DTSTART:20241027T010000
END:STANDARD
BEGIN:DAYLIGHT
TZOFFSETFROM:+0100
TZOFFSETTO:+0200
TZNAME:CEST
DTSTART:20250330T010000
END:DAYLIGHT
BEGIN:STANDARD
TZOFFSETFROM:+0200
TZOFFSETTO:+0100
TZNAME:CET
DTSTART:20251026T010000
END:STANDARD
END:VTIMEZONE
BEGIN:VEVENT
DTSTART;VALUE=DATE:20241002
DTEND;VALUE=DATE:20241003
DTSTAMP:20260422T133820
CREATED:20240823T082400Z
LAST-MODIFIED:20240905T182451Z
UID:15146-1727827200-1727913599@www.troef-theater.nl
SUMMARY:IKC De Abacus - Huissen
DESCRIPTION:Nieuwe hoed
URL:https://www.troef-theater.nl/event/ikc-de-abacus/
END:VEVENT
BEGIN:VEVENT
DTSTART;VALUE=DATE:20241003
DTEND;VALUE=DATE:20241004
DTSTAMP:20260422T133820
CREATED:20240604T081730Z
LAST-MODIFIED:20240604T081730Z
UID:14728-1727913600-1727999999@www.troef-theater.nl
SUMMARY:'t Holthuus - Huissen
DESCRIPTION:Muziekles in de klas
URL:https://www.troef-theater.nl/event/t-holthuus-huissen-4/
END:VEVENT
BEGIN:VEVENT
DTSTART;VALUE=DATE:20241009
DTEND;VALUE=DATE:20241010
DTSTAMP:20260422T133820
CREATED:20240823T082516Z
LAST-MODIFIED:20240823T082516Z
UID:15148-1728432000-1728518399@www.troef-theater.nl
SUMMARY:IKC Binnenstebuiten - Huissen
DESCRIPTION:Nieuwe hoed
URL:https://www.troef-theater.nl/event/ikc-binnenstebuiten-huissen-3/
END:VEVENT
BEGIN:VEVENT
DTSTART;VALUE=DATE:20241010
DTEND;VALUE=DATE:20241011
DTSTAMP:20260422T133820
CREATED:20240820T160535Z
LAST-MODIFIED:20240820T160535Z
UID:15125-1728518400-1728604799@www.troef-theater.nl
SUMMARY:BS De Vuurvlinder - Beuningen
DESCRIPTION:Belletje lellen
URL:https://www.troef-theater.nl/event/bs-de-vuurvlinder-beuningen/
END:VEVENT
BEGIN:VEVENT
DTSTART;VALUE=DATE:20241016
DTEND;VALUE=DATE:20241017
DTSTAMP:20260422T133820
CREATED:20240614T155558Z
LAST-MODIFIED:20240614T155558Z
UID:14862-1729036800-1729123199@www.troef-theater.nl
SUMMARY:Verrassing – Geheime locatie
DESCRIPTION:Verras de klas
URL:https://www.troef-theater.nl/event/verrassing-geheime-locatie-3/
END:VEVENT
BEGIN:VEVENT
DTSTART;VALUE=DATE:20241017
DTEND;VALUE=DATE:20241018
DTSTAMP:20260422T133820
CREATED:20240930T145256Z
LAST-MODIFIED:20240930T145256Z
UID:15391-1729123200-1729209599@www.troef-theater.nl
SUMMARY:Cultuur en school - Nijmegen
DESCRIPTION:Allemaal beestjes
URL:https://www.troef-theater.nl/event/cultuur-en-school-nijmegen-7/
END:VEVENT
BEGIN:VEVENT
DTSTART;VALUE=DATE:20241025
DTEND;VALUE=DATE:20241026
DTSTAMP:20260422T133820
CREATED:20240505T112547Z
LAST-MODIFIED:20240819T103310Z
UID:14427-1729814400-1729900799@www.troef-theater.nl
SUMMARY:Sprookjesfestival - Arnhem
DESCRIPTION:Nieuwe hoed: 11.30 u – 13.30 u – 15.30 u \nKlik hier voor meer info en/of reserveren
URL:https://www.troef-theater.nl/event/sprookjesfestival-arnhem-3/
END:VEVENT
BEGIN:VEVENT
DTSTART;VALUE=DATE:20241026
DTEND;VALUE=DATE:20241027
DTSTAMP:20260422T133820
CREATED:20240505T112624Z
LAST-MODIFIED:20240819T103409Z
UID:14429-1729900800-1729987199@www.troef-theater.nl
SUMMARY:Sprookjesfestival - Arnhem
DESCRIPTION:Nieuwe hoed: 11.00 u – 12.30 u – 14.00 u – 15.30 u \nKlik hier voor meer info en/of reserveren
URL:https://www.troef-theater.nl/event/sprookjesfestival-arnhem-4/
END:VEVENT
BEGIN:VEVENT
DTSTART;VALUE=DATE:20241030
DTEND;VALUE=DATE:20241031
DTSTAMP:20260422T133820
CREATED:20240621T160009Z
LAST-MODIFIED:20240621T160009Z
UID:14873-1730246400-1730332799@www.troef-theater.nl
SUMMARY:Cultuur en school - Nijmegen
DESCRIPTION:Allemaal beestjes
URL:https://www.troef-theater.nl/event/cultuur-en-school-nijmegen-3/
END:VEVENT
BEGIN:VEVENT
DTSTART;VALUE=DATE:20241031
DTEND;VALUE=DATE:20241101
DTSTAMP:20260422T133820
CREATED:20240930T145510Z
LAST-MODIFIED:20240930T145510Z
UID:15393-1730332800-1730419199@www.troef-theater.nl
SUMMARY:VSO Talita Koemi - Nijmegen
DESCRIPTION:Workshops voor Het Schoolconcert
URL:https://www.troef-theater.nl/event/vso-talita-koemi-nijmegen/
END:VEVENT
END:VCALENDAR