BEGIN:VCALENDAR
VERSION:2.0
PRODID:-//Troef Theater - ECPv6.15.20//NONSGML v1.0//EN
CALSCALE:GREGORIAN
METHOD:PUBLISH
X-ORIGINAL-URL:https://www.troef-theater.nl
X-WR-CALDESC:Evenementen voor Troef Theater
REFRESH-INTERVAL;VALUE=DURATION:PT1H
X-Robots-Tag:noindex
X-PUBLISHED-TTL:PT1H
BEGIN:VTIMEZONE
TZID:Europe/Amsterdam
BEGIN:DAYLIGHT
TZOFFSETFROM:+0100
TZOFFSETTO:+0200
TZNAME:CEST
DTSTART:20230326T010000
END:DAYLIGHT
BEGIN:STANDARD
TZOFFSETFROM:+0200
TZOFFSETTO:+0100
TZNAME:CET
DTSTART:20231029T010000
END:STANDARD
BEGIN:DAYLIGHT
TZOFFSETFROM:+0100
TZOFFSETTO:+0200
TZNAME:CEST
DTSTART:20240331T010000
END:DAYLIGHT
BEGIN:STANDARD
TZOFFSETFROM:+0200
TZOFFSETTO:+0100
TZNAME:CET
DTSTART:20241027T010000
END:STANDARD
BEGIN:DAYLIGHT
TZOFFSETFROM:+0100
TZOFFSETTO:+0200
TZNAME:CEST
DTSTART:20250330T010000
END:DAYLIGHT
BEGIN:STANDARD
TZOFFSETFROM:+0200
TZOFFSETTO:+0100
TZNAME:CET
DTSTART:20251026T010000
END:STANDARD
END:VTIMEZONE
BEGIN:VEVENT
DTSTART;VALUE=DATE:20240901
DTEND;VALUE=DATE:20240902
DTSTAMP:20260422T144958
CREATED:20240506T093812Z
LAST-MODIFIED:20240506T093812Z
UID:14431-1725148800-1725235199@www.troef-theater.nl
SUMMARY:Cultuur aan de Maas - Cuijk
DESCRIPTION:Meer info volgt
URL:https://www.troef-theater.nl/event/cultuur-aan-de-maas-cuijk/
END:VEVENT
BEGIN:VEVENT
DTSTART;VALUE=DATE:20240904
DTEND;VALUE=DATE:20240905
DTSTAMP:20260422T144958
CREATED:20240429T094457Z
LAST-MODIFIED:20240429T094457Z
UID:14393-1725408000-1725494399@www.troef-theater.nl
SUMMARY:De Grote Lier - Molenhoek
DESCRIPTION:Belletje lellen
URL:https://www.troef-theater.nl/event/de-grote-lier-molenhoek/
END:VEVENT
BEGIN:VEVENT
DTSTART;VALUE=DATE:20240905
DTEND;VALUE=DATE:20240906
DTSTAMP:20260422T144958
CREATED:20240604T081521Z
LAST-MODIFIED:20240604T081521Z
UID:14724-1725494400-1725580799@www.troef-theater.nl
SUMMARY:'t Holthuus - Huissen
DESCRIPTION:Muziekles in de klas
URL:https://www.troef-theater.nl/event/t-holthuus-huissen-2/
END:VEVENT
BEGIN:VEVENT
DTSTART;VALUE=DATE:20240907
DTEND;VALUE=DATE:20240908
DTSTAMP:20260422T144958
CREATED:20240514T185448Z
LAST-MODIFIED:20240514T185448Z
UID:14511-1725667200-1725753599@www.troef-theater.nl
SUMMARY:Kermis - Gaanderen
DESCRIPTION:De liedjeskist
URL:https://www.troef-theater.nl/event/kermis-gaanderen/
END:VEVENT
BEGIN:VEVENT
DTSTART;VALUE=DATE:20240911
DTEND;VALUE=DATE:20240912
DTSTAMP:20260422T144958
CREATED:20240611T070810Z
LAST-MODIFIED:20240611T070908Z
UID:14841-1726012800-1726099199@www.troef-theater.nl
SUMMARY:Rehobothschool - Veenendaal
DESCRIPTION:De liedjeskist
URL:https://www.troef-theater.nl/event/rehobothschool-veenendaal/
END:VEVENT
BEGIN:VEVENT
DTSTART;VALUE=DATE:20240912
DTEND;VALUE=DATE:20240913
DTSTAMP:20260422T144958
CREATED:20240315T194138Z
LAST-MODIFIED:20240315T194138Z
UID:14038-1726099200-1726185599@www.troef-theater.nl
SUMMARY:IKC De Wieling - Haalderen
DESCRIPTION:Schoolconcert
URL:https://www.troef-theater.nl/event/ikc-de-wieling-haalderen-2/
END:VEVENT
BEGIN:VEVENT
DTSTART;VALUE=DATE:20240918
DTEND;VALUE=DATE:20240919
DTSTAMP:20260422T144958
CREATED:20240903T190030Z
LAST-MODIFIED:20240903T190030Z
UID:15194-1726617600-1726703999@www.troef-theater.nl
SUMMARY:De Regenboog - Bemmel
DESCRIPTION:Belletje lellen
URL:https://www.troef-theater.nl/event/de-regenboog-bemmel/
END:VEVENT
BEGIN:VEVENT
DTSTART;VALUE=DATE:20240919
DTEND;VALUE=DATE:20240920
DTSTAMP:20260422T144958
CREATED:20240604T081625Z
LAST-MODIFIED:20240604T081625Z
UID:14726-1726704000-1726790399@www.troef-theater.nl
SUMMARY:'t Holthuus - Huissen
DESCRIPTION:Muziekles in de klas
URL:https://www.troef-theater.nl/event/t-holthuus-huissen-3/
END:VEVENT
BEGIN:VEVENT
DTSTART;VALUE=DATE:20240925
DTEND;VALUE=DATE:20240926
DTSTAMP:20260422T144958
CREATED:20240823T082206Z
LAST-MODIFIED:20240823T082227Z
UID:15144-1727222400-1727308799@www.troef-theater.nl
SUMMARY:SBO De Vlinderboom - Bemmel
DESCRIPTION:Nieuwe hoed
URL:https://www.troef-theater.nl/event/sbo-de-vlinderboom-bemmel-5/
END:VEVENT
BEGIN:VEVENT
DTSTART;VALUE=DATE:20240926
DTEND;VALUE=DATE:20240927
DTSTAMP:20260422T144958
CREATED:20240815T050816Z
LAST-MODIFIED:20240815T050816Z
UID:15037-1727308800-1727395199@www.troef-theater.nl
SUMMARY:De Ark - Veghel
DESCRIPTION:Schoolconcert
URL:https://www.troef-theater.nl/event/de-ark-veghel/
END:VEVENT
END:VCALENDAR