BEGIN:VCALENDAR
VERSION:2.0
PRODID:-//Troef Theater - ECPv6.15.20//NONSGML v1.0//EN
CALSCALE:GREGORIAN
METHOD:PUBLISH
X-WR-CALNAME:Troef Theater
X-ORIGINAL-URL:https://www.troef-theater.nl
X-WR-CALDESC:Evenementen voor Troef Theater
REFRESH-INTERVAL;VALUE=DURATION:PT1H
X-Robots-Tag:noindex
X-PUBLISHED-TTL:PT1H
BEGIN:VTIMEZONE
TZID:Europe/Amsterdam
BEGIN:DAYLIGHT
TZOFFSETFROM:+0100
TZOFFSETTO:+0200
TZNAME:CEST
DTSTART:20230326T010000
END:DAYLIGHT
BEGIN:STANDARD
TZOFFSETFROM:+0200
TZOFFSETTO:+0100
TZNAME:CET
DTSTART:20231029T010000
END:STANDARD
BEGIN:DAYLIGHT
TZOFFSETFROM:+0100
TZOFFSETTO:+0200
TZNAME:CEST
DTSTART:20240331T010000
END:DAYLIGHT
BEGIN:STANDARD
TZOFFSETFROM:+0200
TZOFFSETTO:+0100
TZNAME:CET
DTSTART:20241027T010000
END:STANDARD
BEGIN:DAYLIGHT
TZOFFSETFROM:+0100
TZOFFSETTO:+0200
TZNAME:CEST
DTSTART:20250330T010000
END:DAYLIGHT
BEGIN:STANDARD
TZOFFSETFROM:+0200
TZOFFSETTO:+0100
TZNAME:CET
DTSTART:20251026T010000
END:STANDARD
END:VTIMEZONE
BEGIN:VEVENT
DTSTART;VALUE=DATE:20240110
DTEND;VALUE=DATE:20240111
DTSTAMP:20260423T025245
CREATED:20230723T094533Z
LAST-MODIFIED:20230723T095035Z
UID:12140-1704844800-1704931199@www.troef-theater.nl
SUMMARY:BS De Klumpert - Nijmegen
DESCRIPTION:Muziekles in de klas
URL:https://www.troef-theater.nl/event/bs-de-klumpert/
END:VEVENT
BEGIN:VEVENT
DTSTART;VALUE=DATE:20240111
DTEND;VALUE=DATE:20240112
DTSTAMP:20260423T025245
CREATED:20230723T095436Z
LAST-MODIFIED:20230723T095436Z
UID:12158-1704931200-1705017599@www.troef-theater.nl
SUMMARY:KC Toon - Nijmegen
DESCRIPTION:Muziekles in de klas
URL:https://www.troef-theater.nl/event/kc-toon-nijmegen/
END:VEVENT
BEGIN:VEVENT
DTSTART;VALUE=DATE:20240111
DTEND;VALUE=DATE:20240112
DTSTAMP:20260423T025245
CREATED:20230723T095658Z
LAST-MODIFIED:20230723T100102Z
UID:12160-1704931200-1705017599@www.troef-theater.nl
SUMMARY:BS De Lindenhoeve - Nijmegen
DESCRIPTION:Muziekles in de klas
URL:https://www.troef-theater.nl/event/bs-de-lindenhoeve/
END:VEVENT
BEGIN:VEVENT
DTSTART;VALUE=DATE:20240117
DTEND;VALUE=DATE:20240118
DTSTAMP:20260423T025245
CREATED:20230723T094619Z
LAST-MODIFIED:20230723T095107Z
UID:12142-1705449600-1705535999@www.troef-theater.nl
SUMMARY:BS De Klumpert - Nijmegen
DESCRIPTION:Muziekles in de klas
URL:https://www.troef-theater.nl/event/bs-de-klumpert-2/
END:VEVENT
BEGIN:VEVENT
DTSTART;VALUE=DATE:20240118
DTEND;VALUE=DATE:20240119
DTSTAMP:20260423T025245
CREATED:20230723T095818Z
LAST-MODIFIED:20230723T095818Z
UID:12162-1705536000-1705622399@www.troef-theater.nl
SUMMARY:BS De Lindenhoeve - Nijmegen
DESCRIPTION:Muziekles in de klas
URL:https://www.troef-theater.nl/event/bs-de-lindenhoeve-nijmegen/
END:VEVENT
BEGIN:VEVENT
DTSTART;VALUE=DATE:20240118
DTEND;VALUE=DATE:20240119
DTSTAMP:20260423T025245
CREATED:20230723T100238Z
LAST-MODIFIED:20230723T100238Z
UID:12174-1705536000-1705622399@www.troef-theater.nl
SUMMARY:KC Toon - Nijmegen
DESCRIPTION:Muziekles in de klas
URL:https://www.troef-theater.nl/event/kc-toon-nijmegen-2/
END:VEVENT
BEGIN:VEVENT
DTSTART;VALUE=DATE:20240124
DTEND;VALUE=DATE:20240125
DTSTAMP:20260423T025245
CREATED:20230723T094705Z
LAST-MODIFIED:20230723T095119Z
UID:12144-1706054400-1706140799@www.troef-theater.nl
SUMMARY:BS De Klumpert - Nijmegen
DESCRIPTION:Muziekles in de klas
URL:https://www.troef-theater.nl/event/bs-de-klumpert-3/
END:VEVENT
BEGIN:VEVENT
DTSTART;VALUE=DATE:20240125
DTEND;VALUE=DATE:20240126
DTSTAMP:20260423T025245
CREATED:20230723T095845Z
LAST-MODIFIED:20230723T095845Z
UID:12164-1706140800-1706227199@www.troef-theater.nl
SUMMARY:BS De Lindenhoeve - Nijmegen
DESCRIPTION:Muziekles in de klas
URL:https://www.troef-theater.nl/event/bs-de-lindenhoeve-nijmegen-2/
END:VEVENT
BEGIN:VEVENT
DTSTART;VALUE=DATE:20240125
DTEND;VALUE=DATE:20240126
DTSTAMP:20260423T025245
CREATED:20230723T100259Z
LAST-MODIFIED:20230723T100259Z
UID:12176-1706140800-1706227199@www.troef-theater.nl
SUMMARY:KC Toon - Nijmegen
DESCRIPTION:Muziekles in de klas
URL:https://www.troef-theater.nl/event/kc-toon-nijmegen-3/
END:VEVENT
BEGIN:VEVENT
DTSTART;VALUE=DATE:20240131
DTEND;VALUE=DATE:20240201
DTSTAMP:20260423T025245
CREATED:20230723T094725Z
LAST-MODIFIED:20230723T095130Z
UID:12146-1706659200-1706745599@www.troef-theater.nl
SUMMARY:BS De Klumpert - Nijmegen
DESCRIPTION:Muziekles in de klas
URL:https://www.troef-theater.nl/event/bs-de-klumpert-4/
END:VEVENT
END:VCALENDAR