BEGIN:VCALENDAR
VERSION:2.0
PRODID:-//Troef Theater - ECPv6.15.20//NONSGML v1.0//EN
CALSCALE:GREGORIAN
METHOD:PUBLISH
X-WR-CALNAME:Troef Theater
X-ORIGINAL-URL:https://www.troef-theater.nl
X-WR-CALDESC:Evenementen voor Troef Theater
REFRESH-INTERVAL;VALUE=DURATION:PT1H
X-Robots-Tag:noindex
X-PUBLISHED-TTL:PT1H
BEGIN:VTIMEZONE
TZID:Europe/Amsterdam
BEGIN:DAYLIGHT
TZOFFSETFROM:+0100
TZOFFSETTO:+0200
TZNAME:CEST
DTSTART:20240331T010000
END:DAYLIGHT
BEGIN:STANDARD
TZOFFSETFROM:+0200
TZOFFSETTO:+0100
TZNAME:CET
DTSTART:20241027T010000
END:STANDARD
BEGIN:DAYLIGHT
TZOFFSETFROM:+0100
TZOFFSETTO:+0200
TZNAME:CEST
DTSTART:20250330T010000
END:DAYLIGHT
BEGIN:STANDARD
TZOFFSETFROM:+0200
TZOFFSETTO:+0100
TZNAME:CET
DTSTART:20251026T010000
END:STANDARD
BEGIN:DAYLIGHT
TZOFFSETFROM:+0100
TZOFFSETTO:+0200
TZNAME:CEST
DTSTART:20260329T010000
END:DAYLIGHT
BEGIN:STANDARD
TZOFFSETFROM:+0200
TZOFFSETTO:+0100
TZNAME:CET
DTSTART:20261025T010000
END:STANDARD
END:VTIMEZONE
BEGIN:VEVENT
DTSTART;VALUE=DATE:20250917
DTEND;VALUE=DATE:20250918
DTSTAMP:20260422T015902
CREATED:20250916T140056Z
LAST-MODIFIED:20250916T140056Z
UID:17140-1758067200-1758153599@www.troef-theater.nl
SUMMARY:OBS De Esdoorn - Elst
DESCRIPTION:Nieuwe hoed
URL:https://www.troef-theater.nl/event/obs-de-esdoorn-elst/
END:VEVENT
BEGIN:VEVENT
DTSTART;VALUE=DATE:20250831
DTEND;VALUE=DATE:20250901
DTSTAMP:20260422T015902
CREATED:20250304T074517Z
LAST-MODIFIED:20250304T074530Z
UID:16092-1756598400-1756684799@www.troef-theater.nl
SUMMARY:Theater De Kik - Elst
DESCRIPTION:Opening seizoen 2025-2026
URL:https://www.troef-theater.nl/event/theater-de-kik-elst-2/
END:VEVENT
BEGIN:VEVENT
DTSTART;VALUE=DATE:20250830
DTEND;VALUE=DATE:20250831
DTSTAMP:20260422T015902
CREATED:20250307T145648Z
LAST-MODIFIED:20250307T145648Z
UID:16113-1756512000-1756598399@www.troef-theater.nl
SUMMARY:Food Festival Buitenplaats - Doetinchem
DESCRIPTION:De liedjeskist
URL:https://www.troef-theater.nl/event/food-festival-buitenplaats-doetinchem/
END:VEVENT
BEGIN:VEVENT
DTSTART;VALUE=DATE:20250817
DTEND;VALUE=DATE:20250818
DTSTAMP:20260422T015902
CREATED:20250419T084715Z
LAST-MODIFIED:20250419T084715Z
UID:16538-1755388800-1755475199@www.troef-theater.nl
SUMMARY:Varsseveldse Volksfeesten - Varsseveld
DESCRIPTION:De liedjeskist
URL:https://www.troef-theater.nl/event/varsseveldse-volksfeesten-varsseveld/
END:VEVENT
BEGIN:VEVENT
DTSTART;VALUE=DATE:20250729
DTEND;VALUE=DATE:20250730
DTSTAMP:20260422T015902
CREATED:20250624T091115Z
LAST-MODIFIED:20250624T091115Z
UID:16824-1753747200-1753833599@www.troef-theater.nl
SUMMARY:BSO De Boomgaard - Nijmegen
DESCRIPTION:KION Vakantietour – De liedjeskist
URL:https://www.troef-theater.nl/event/bso-de-boomgaard-nijmegen/
END:VEVENT
BEGIN:VEVENT
DTSTART;VALUE=DATE:20250729
DTEND;VALUE=DATE:20250730
DTSTAMP:20260422T015902
CREATED:20250624T091003Z
LAST-MODIFIED:20250624T091003Z
UID:16822-1753747200-1753833599@www.troef-theater.nl
SUMMARY:BSO+ Klimop - Nijmegen
DESCRIPTION:KION Vakantietour – De liedjeskist
URL:https://www.troef-theater.nl/event/bso-klimop-nijmegen/
END:VEVENT
BEGIN:VEVENT
DTSTART;VALUE=DATE:20250729
DTEND;VALUE=DATE:20250730
DTSTAMP:20260422T015902
CREATED:20250624T090802Z
LAST-MODIFIED:20250624T091150Z
UID:16820-1753747200-1753833599@www.troef-theater.nl
SUMMARY:BSO Ondersteboven - Nijmegen
DESCRIPTION:KION Vakantietour – De liedjeskist
URL:https://www.troef-theater.nl/event/bso-ondersteboven-nijmegen/
END:VEVENT
BEGIN:VEVENT
DTSTART;VALUE=DATE:20250703
DTEND;VALUE=DATE:20250704
DTSTAMP:20260422T015902
CREATED:20250424T165033Z
LAST-MODIFIED:20250615T150602Z
UID:16543-1751500800-1751587199@www.troef-theater.nl
SUMMARY:De Viersprong - Wijchen
DESCRIPTION:De liedjeskist & workshops
URL:https://www.troef-theater.nl/event/de-viersprong-wijchen/
END:VEVENT
BEGIN:VEVENT
DTSTART;VALUE=DATE:20250702
DTEND;VALUE=DATE:20250703
DTSTAMP:20260422T015902
CREATED:20240906T081848Z
LAST-MODIFIED:20240906T081848Z
UID:15215-1751414400-1751500799@www.troef-theater.nl
SUMMARY:Verrassing - Geheime locatie
DESCRIPTION:Verras de klas
URL:https://www.troef-theater.nl/event/verrassing-geheime-locatie-8/
END:VEVENT
BEGIN:VEVENT
DTSTART;VALUE=DATE:20250626
DTEND;VALUE=DATE:20250627
DTSTAMP:20260422T015902
CREATED:20241126T145900Z
LAST-MODIFIED:20241126T145900Z
UID:15651-1750896000-1750982399@www.troef-theater.nl
SUMMARY:School Alex - Veenendaal
DESCRIPTION:Nieuwe hoed
URL:https://www.troef-theater.nl/event/school-alex-veenendaal/
END:VEVENT
BEGIN:VEVENT
DTSTART;VALUE=DATE:20250625
DTEND;VALUE=DATE:20250626
DTSTAMP:20260422T015902
CREATED:20250527T072456Z
LAST-MODIFIED:20250527T072456Z
UID:16642-1750809600-1750895999@www.troef-theater.nl
SUMMARY:BS Breedeweg - Groesbeek
DESCRIPTION:Het Schoolconcert
URL:https://www.troef-theater.nl/event/bs-breedeweg-groesbeek/
END:VEVENT
BEGIN:VEVENT
DTSTART;VALUE=DATE:20250621
DTEND;VALUE=DATE:20250622
DTSTAMP:20260422T015902
CREATED:20250304T073522Z
LAST-MODIFIED:20250525T190556Z
UID:16090-1750464000-1750550399@www.troef-theater.nl
SUMMARY:Liemers Midzomer Festival - Zevenaar
DESCRIPTION:De Liedjeskist
URL:https://www.troef-theater.nl/event/midzomerfeest-4-0-zevenaar-2/
END:VEVENT
BEGIN:VEVENT
DTSTART;VALUE=DATE:20250618
DTEND;VALUE=DATE:20250619
DTSTAMP:20260422T015902
CREATED:20250407T123750Z
LAST-MODIFIED:20250605T172627Z
UID:16513-1750204800-1750291199@www.troef-theater.nl
SUMMARY:KC De Peppel - Beuningen
DESCRIPTION:De Liedjeskist
URL:https://www.troef-theater.nl/event/kc-de-peppel-beuningen-3/
END:VEVENT
BEGIN:VEVENT
DTSTART;VALUE=DATE:20250614
DTEND;VALUE=DATE:20250615
DTSTAMP:20260422T015902
CREATED:20250120T145021Z
LAST-MODIFIED:20250120T145021Z
UID:15875-1749859200-1749945599@www.troef-theater.nl
SUMMARY:Schaapscheerdersfeest - Ede
DESCRIPTION:De liedjeskist
URL:https://www.troef-theater.nl/event/schaapscheerdersfeest-ede-2/
END:VEVENT
BEGIN:VEVENT
DTSTART;VALUE=DATE:20250611
DTEND;VALUE=DATE:20250612
DTSTAMP:20260422T015902
CREATED:20250424T164933Z
LAST-MODIFIED:20250513T100215Z
UID:16541-1749600000-1749686399@www.troef-theater.nl
SUMMARY:De Kinkel - Bemmel
DESCRIPTION:STroef – Liedjesbingo voor ouderen
URL:https://www.troef-theater.nl/event/de-kinkel-bemmel/
END:VEVENT
BEGIN:VEVENT
DTSTART;VALUE=DATE:20250605
DTEND;VALUE=DATE:20250606
DTSTAMP:20260422T015902
CREATED:20240924T142332Z
LAST-MODIFIED:20240924T142332Z
UID:15300-1749081600-1749167999@www.troef-theater.nl
SUMMARY:OBS De Trinoom - Wijchen
DESCRIPTION:Muziekles in de klas
URL:https://www.troef-theater.nl/event/obs-de-trinoom-wijchen-4/
END:VEVENT
BEGIN:VEVENT
DTSTART;VALUE=DATE:20250604
DTEND;VALUE=DATE:20250605
DTSTAMP:20260422T015902
CREATED:20240924T142243Z
LAST-MODIFIED:20240924T142243Z
UID:15298-1748995200-1749081599@www.troef-theater.nl
SUMMARY:OBS De Trinoom - Wijchen
DESCRIPTION:Muziekles in de klas
URL:https://www.troef-theater.nl/event/obs-de-trinoom-wijchen-3/
END:VEVENT
BEGIN:VEVENT
DTSTART;VALUE=DATE:20250528
DTEND;VALUE=DATE:20250529
DTSTAMP:20260422T015902
CREATED:20250425T145758Z
LAST-MODIFIED:20250425T150101Z
UID:16552-1748390400-1748476799@www.troef-theater.nl
SUMMARY:De Rabot - Didam
DESCRIPTION:De liedjeskist
URL:https://www.troef-theater.nl/event/de-rabot-didam/
END:VEVENT
BEGIN:VEVENT
DTSTART;VALUE=DATE:20250522
DTEND;VALUE=DATE:20250523
DTSTAMP:20260422T015902
CREATED:20240906T081336Z
LAST-MODIFIED:20240906T081336Z
UID:15213-1747872000-1747958399@www.troef-theater.nl
SUMMARY:OBS De Zonnepoort - Elst
DESCRIPTION:Nieuwe hoed
URL:https://www.troef-theater.nl/event/obs-de-zonnepoort-elst/
END:VEVENT
BEGIN:VEVENT
DTSTART;VALUE=DATE:20250521
DTEND;VALUE=DATE:20250522
DTSTAMP:20260422T015902
CREATED:20240611T071007Z
LAST-MODIFIED:20240611T071007Z
UID:14843-1747785600-1747871999@www.troef-theater.nl
SUMMARY:CBS De Ceder - Veenendaal
DESCRIPTION:Allemaal beestjes
URL:https://www.troef-theater.nl/event/cbs-de-ceder-veenendaal/
END:VEVENT
BEGIN:VEVENT
DTSTART;VALUE=DATE:20250517
DTEND;VALUE=DATE:20250518
DTSTAMP:20260422T015902
CREATED:20250304T072905Z
LAST-MODIFIED:20250425T150010Z
UID:16088-1747440000-1747526399@www.troef-theater.nl
SUMMARY:Soos De Vuurtoren - Lunteren
DESCRIPTION:De liedjeskist
URL:https://www.troef-theater.nl/event/soos-de-vuurtoren-lunteren/
END:VEVENT
BEGIN:VEVENT
DTSTART;VALUE=DATE:20250515
DTEND;VALUE=DATE:20250516
DTSTAMP:20260422T015902
CREATED:20240703T164925Z
LAST-MODIFIED:20240703T165145Z
UID:14960-1747267200-1747353599@www.troef-theater.nl
SUMMARY:Wereldkidz De Vlieger - Veenendaal
DESCRIPTION:Muziekles in de klas
URL:https://www.troef-theater.nl/event/wereldkidz-de-vlieger-veenendaal-6/
END:VEVENT
BEGIN:VEVENT
DTSTART;VALUE=DATE:20250514
DTEND;VALUE=DATE:20250515
DTSTAMP:20260422T015902
CREATED:20250212T165614Z
LAST-MODIFIED:20250425T145946Z
UID:16010-1747180800-1747267199@www.troef-theater.nl
SUMMARY:Hub Noord-Brabant - Oss
DESCRIPTION:De liedjeskist
URL:https://www.troef-theater.nl/event/hub-noord-brabant-oss/
END:VEVENT
BEGIN:VEVENT
DTSTART;VALUE=DATE:20250510
DTEND;VALUE=DATE:20250511
DTSTAMP:20260422T015902
CREATED:20250304T070013Z
LAST-MODIFIED:20250425T133618Z
UID:16085-1746835200-1746921599@www.troef-theater.nl
SUMMARY:M'ijsjes - Beek / Berg en Dal
DESCRIPTION:Doorgedraaid
URL:https://www.troef-theater.nl/event/mijsjes-beek-berg-en-dal/
END:VEVENT
BEGIN:VEVENT
DTSTART;VALUE=DATE:20250508
DTEND;VALUE=DATE:20250509
DTSTAMP:20260422T015902
CREATED:20241018T140402Z
LAST-MODIFIED:20241018T140402Z
UID:15476-1746662400-1746748799@www.troef-theater.nl
SUMMARY:St. Maartenschool - Ubbergen
DESCRIPTION:Nieuwe hoed
URL:https://www.troef-theater.nl/event/st-maartenschool-ubbergen/
END:VEVENT
BEGIN:VEVENT
DTSTART;VALUE=DATE:20250507
DTEND;VALUE=DATE:20250508
DTSTAMP:20260422T015902
CREATED:20241021T055157Z
LAST-MODIFIED:20241021T055257Z
UID:15478-1746576000-1746662399@www.troef-theater.nl
SUMMARY:SBO Klavervier - Beuningen
DESCRIPTION:Allemaal beestjes
URL:https://www.troef-theater.nl/event/sbo-klavervier-beuningen-2/
END:VEVENT
BEGIN:VEVENT
DTSTART;VALUE=DATE:20250426
DTEND;VALUE=DATE:20250427
DTSTAMP:20260422T015902
CREATED:20250212T165457Z
LAST-MODIFIED:20250424T165907Z
UID:16008-1745625600-1745711999@www.troef-theater.nl
SUMMARY:Koningsdag - Park Sonsbeek Arnhem
DESCRIPTION:De liedjeskist (12.30 u – 13.30 u – 14.30 u)
URL:https://www.troef-theater.nl/event/park-sonsbeek-arnhem/
END:VEVENT
BEGIN:VEVENT
DTSTART;VALUE=DATE:20250422
DTEND;VALUE=DATE:20250423
DTSTAMP:20260422T015902
CREATED:20250407T123633Z
LAST-MODIFIED:20250407T123633Z
UID:16511-1745280000-1745366399@www.troef-theater.nl
SUMMARY:Hogeschool KPZ - Zwolle
DESCRIPTION:Nieuwe hoed
URL:https://www.troef-theater.nl/event/hogeschool-kpz-zwolle/
END:VEVENT
BEGIN:VEVENT
DTSTART;VALUE=DATE:20250413
DTEND;VALUE=DATE:20250414
DTSTAMP:20260422T015902
CREATED:20240515T143505Z
LAST-MODIFIED:20240515T143505Z
UID:14533-1744502400-1744588799@www.troef-theater.nl
SUMMARY:De Oude Jan - Velp
DESCRIPTION:Nieuwe hoed
URL:https://www.troef-theater.nl/event/de-oude-jan-velp/
END:VEVENT
BEGIN:VEVENT
DTSTART;VALUE=DATE:20250410
DTEND;VALUE=DATE:20250411
DTSTAMP:20260422T015902
CREATED:20240703T164842Z
LAST-MODIFIED:20240703T164855Z
UID:14958-1744243200-1744329599@www.troef-theater.nl
SUMMARY:Wereldkidz De Vlieger - Veenendaal
DESCRIPTION:Muziekles in de klas
URL:https://www.troef-theater.nl/event/wereldkidz-de-vlieger-veenendaal-5/
END:VEVENT
END:VCALENDAR