BEGIN:VCALENDAR
VERSION:2.0
PRODID:-//Troef Theater - ECPv6.15.20//NONSGML v1.0//EN
CALSCALE:GREGORIAN
METHOD:PUBLISH
X-WR-CALNAME:Troef Theater
X-ORIGINAL-URL:https://www.troef-theater.nl
X-WR-CALDESC:Evenementen voor Troef Theater
REFRESH-INTERVAL;VALUE=DURATION:PT1H
X-Robots-Tag:noindex
X-PUBLISHED-TTL:PT1H
BEGIN:VTIMEZONE
TZID:Europe/Amsterdam
BEGIN:DAYLIGHT
TZOFFSETFROM:+0100
TZOFFSETTO:+0200
TZNAME:CEST
DTSTART:20220327T010000
END:DAYLIGHT
BEGIN:STANDARD
TZOFFSETFROM:+0200
TZOFFSETTO:+0100
TZNAME:CET
DTSTART:20221030T010000
END:STANDARD
BEGIN:DAYLIGHT
TZOFFSETFROM:+0100
TZOFFSETTO:+0200
TZNAME:CEST
DTSTART:20230326T010000
END:DAYLIGHT
BEGIN:STANDARD
TZOFFSETFROM:+0200
TZOFFSETTO:+0100
TZNAME:CET
DTSTART:20231029T010000
END:STANDARD
BEGIN:DAYLIGHT
TZOFFSETFROM:+0100
TZOFFSETTO:+0200
TZNAME:CEST
DTSTART:20240331T010000
END:DAYLIGHT
BEGIN:STANDARD
TZOFFSETFROM:+0200
TZOFFSETTO:+0100
TZNAME:CET
DTSTART:20241027T010000
END:STANDARD
END:VTIMEZONE
BEGIN:VEVENT
DTSTART;VALUE=DATE:20230906
DTEND;VALUE=DATE:20230907
DTSTAMP:20260423T105658
CREATED:20230529T075014Z
LAST-MODIFIED:20230529T075014Z
UID:11598-1693958400-1694044799@www.troef-theater.nl
SUMMARY:Bernulphusschool - Oosterbeek
DESCRIPTION:Liedjesscheppers
URL:https://www.troef-theater.nl/event/bernulphusschool-oosterbeek/
END:VEVENT
BEGIN:VEVENT
DTSTART;VALUE=DATE:20230902
DTEND;VALUE=DATE:20230903
DTSTAMP:20260423T105658
CREATED:20230220T081226Z
LAST-MODIFIED:20230220T081244Z
UID:10596-1693612800-1693699199@www.troef-theater.nl
SUMMARY:Kermis - Giesbeek
DESCRIPTION:Belletje lellen
URL:https://www.troef-theater.nl/event/kermis-giesbeek/
END:VEVENT
BEGIN:VEVENT
DTSTART;VALUE=DATE:20230831
DTEND;VALUE=DATE:20230901
DTSTAMP:20260423T105658
CREATED:20230530T105251Z
LAST-MODIFIED:20230530T105251Z
UID:11617-1693440000-1693526399@www.troef-theater.nl
SUMMARY:SBO De Vlinderboom - Bemmel
DESCRIPTION:Muziekles in de klas
URL:https://www.troef-theater.nl/event/sbo-de-vlinderboom-bemmel/
END:VEVENT
BEGIN:VEVENT
DTSTART;VALUE=DATE:20230830
DTEND;VALUE=DATE:20230831
DTSTAMP:20260423T105658
CREATED:20230529T071306Z
LAST-MODIFIED:20230529T072911Z
UID:11563-1693353600-1693439999@www.troef-theater.nl
SUMMARY:IKC Donatushof - Bemmel
DESCRIPTION:Muziekles in de klas
URL:https://www.troef-theater.nl/event/donatushof/
END:VEVENT
BEGIN:VEVENT
DTSTART;VALUE=DATE:20230820
DTEND;VALUE=DATE:20230821
DTSTAMP:20260423T105658
CREATED:20230531T195712Z
LAST-MODIFIED:20230818T074825Z
UID:11629-1692489600-1692575999@www.troef-theater.nl
SUMMARY:Sonsbeek Theater Avenue - Arnhem
DESCRIPTION:De liedjeskist
URL:https://www.troef-theater.nl/event/sonsbeek-theater-avenue-arnhem-2/
END:VEVENT
BEGIN:VEVENT
DTSTART;VALUE=DATE:20230819
DTEND;VALUE=DATE:20230820
DTSTAMP:20260423T105658
CREATED:20230531T195627Z
LAST-MODIFIED:20230818T074727Z
UID:11627-1692403200-1692489599@www.troef-theater.nl
SUMMARY:Sonsbeek Theater Avenue - Arnhem
DESCRIPTION:De liedjeskist
URL:https://www.troef-theater.nl/event/sonsbeek-theater-avenue-arnhem/
END:VEVENT
BEGIN:VEVENT
DTSTART;VALUE=DATE:20230810
DTEND;VALUE=DATE:20230811
DTSTAMP:20260423T105658
CREATED:20230706T123830Z
LAST-MODIFIED:20230706T123940Z
UID:12111-1691625600-1691711999@www.troef-theater.nl
SUMMARY:Kion Vakantietour - Nijmegen
DESCRIPTION:De Liedjeskist & workshops
URL:https://www.troef-theater.nl/event/kion-vakantietour/
END:VEVENT
BEGIN:VEVENT
DTSTART;VALUE=DATE:20230713
DTEND;VALUE=DATE:20230714
DTSTAMP:20260423T105658
CREATED:20230529T073258Z
LAST-MODIFIED:20230625T084653Z
UID:11580-1689206400-1689292799@www.troef-theater.nl
SUMMARY:Verrassing - Nijmegen
DESCRIPTION:Schoolconcert
URL:https://www.troef-theater.nl/event/verrassing-nijmegen/
END:VEVENT
BEGIN:VEVENT
DTSTART;VALUE=DATE:20230712
DTEND;VALUE=DATE:20230713
DTSTAMP:20260423T105658
CREATED:20230414T212129Z
LAST-MODIFIED:20230414T212431Z
UID:11196-1689120000-1689206399@www.troef-theater.nl
SUMMARY:Prins Bernhard - Velp
DESCRIPTION:Allemaal beestjes
URL:https://www.troef-theater.nl/event/daltonschool-prins-bernhard-velp/
END:VEVENT
BEGIN:VEVENT
DTSTART;VALUE=DATE:20230705
DTEND;VALUE=DATE:20230706
DTSTAMP:20260423T105658
CREATED:20230122T161230Z
LAST-MODIFIED:20230625T075709Z
UID:9313-1688515200-1688601599@www.troef-theater.nl
SUMMARY:BS Bernadette - Loo
DESCRIPTION:Muziekles in de klas en eindpresentatie
URL:https://www.troef-theater.nl/event/bs-bernadette-4/
CATEGORIES:School
END:VEVENT
BEGIN:VEVENT
DTSTART;VALUE=DATE:20230629
DTEND;VALUE=DATE:20230630
DTSTAMP:20260423T105658
CREATED:20230122T161218Z
LAST-MODIFIED:20230220T082317Z
UID:9312-1687996800-1688083199@www.troef-theater.nl
SUMMARY:De Vlinderboom - Bemmel
DESCRIPTION:Muziekles in de klas
URL:https://www.troef-theater.nl/event/sbo-de-vlinderboom-5/
CATEGORIES:School
END:VEVENT
BEGIN:VEVENT
DTSTART;VALUE=DATE:20230628
DTEND;VALUE=DATE:20230629
DTSTAMP:20260423T105658
CREATED:20230130T160817Z
LAST-MODIFIED:20230220T082300Z
UID:9939-1687910400-1687996799@www.troef-theater.nl
SUMMARY:Het Jongleren - Arnhem
DESCRIPTION:Allemaal beestjes
URL:https://www.troef-theater.nl/event/obs-het-jongleren/
END:VEVENT
BEGIN:VEVENT
DTSTART;VALUE=DATE:20230622
DTEND;VALUE=DATE:20230623
DTSTAMP:20260423T105658
CREATED:20230122T161201Z
LAST-MODIFIED:20230220T082247Z
UID:9311-1687392000-1687478399@www.troef-theater.nl
SUMMARY:IKC Joannes - Groessen
DESCRIPTION:Muziekles in de klas
URL:https://www.troef-theater.nl/event/ikc-joannes-5/
CATEGORIES:School
END:VEVENT
BEGIN:VEVENT
DTSTART;VALUE=DATE:20230621
DTEND;VALUE=DATE:20230622
DTSTAMP:20260423T105658
CREATED:20230122T161140Z
LAST-MODIFIED:20230220T082233Z
UID:9310-1687305600-1687391999@www.troef-theater.nl
SUMMARY:BS Bernadette - Loo
DESCRIPTION:Muziekles in de klas
URL:https://www.troef-theater.nl/event/bs-bernadette-3/
CATEGORIES:School
END:VEVENT
BEGIN:VEVENT
DTSTART;VALUE=DATE:20230615
DTEND;VALUE=DATE:20230616
DTSTAMP:20260423T105658
CREATED:20230129T065800Z
LAST-MODIFIED:20230220T082219Z
UID:9639-1686787200-1686873599@www.troef-theater.nl
SUMMARY:De Elstar - Elst
DESCRIPTION:Belletje lellen
URL:https://www.troef-theater.nl/event/bs-de-elstar/
CATEGORIES:School
END:VEVENT
BEGIN:VEVENT
DTSTART;VALUE=DATE:20230614
DTEND;VALUE=DATE:20230615
DTSTAMP:20260423T105658
CREATED:20230122T161126Z
LAST-MODIFIED:20230220T082159Z
UID:9309-1686700800-1686787199@www.troef-theater.nl
SUMMARY:MKC Anne Frank - Doesburg
DESCRIPTION:Muziekles in de klas
URL:https://www.troef-theater.nl/event/mkc-anne-frank-2/
CATEGORIES:School
END:VEVENT
BEGIN:VEVENT
DTSTART;VALUE=DATE:20230610
DTEND;VALUE=DATE:20230611
DTSTAMP:20260423T105658
CREATED:20230228T072134Z
LAST-MODIFIED:20230228T072134Z
UID:10673-1686355200-1686441599@www.troef-theater.nl
SUMMARY:Schaapscheerdersfeest - Ede
DESCRIPTION:Doorgedraaid
URL:https://www.troef-theater.nl/event/schaapscheerdersfeest-ede/
END:VEVENT
BEGIN:VEVENT
DTSTART;VALUE=DATE:20230608
DTEND;VALUE=DATE:20230609
DTSTAMP:20260423T105658
CREATED:20230122T161007Z
LAST-MODIFIED:20230220T082145Z
UID:9303-1686182400-1686268799@www.troef-theater.nl
SUMMARY:IKC Joannes - Groessen
DESCRIPTION:Liedjesscheppers
URL:https://www.troef-theater.nl/event/ikc-joannes-4/
CATEGORIES:School
END:VEVENT
BEGIN:VEVENT
DTSTART;VALUE=DATE:20230607
DTEND;VALUE=DATE:20230608
DTSTAMP:20260423T105658
CREATED:20230122T160948Z
LAST-MODIFIED:20230220T082734Z
UID:9302-1686096000-1686182399@www.troef-theater.nl
SUMMARY:IKC Joannes - Groessen
DESCRIPTION:Muziekles in de klas
URL:https://www.troef-theater.nl/event/ikc-joannes-3/
CATEGORIES:School
END:VEVENT
BEGIN:VEVENT
DTSTART;VALUE=DATE:20230603
DTEND;VALUE=DATE:20230604
DTSTAMP:20260423T105658
CREATED:20230529T072503Z
LAST-MODIFIED:20230529T072503Z
UID:11574-1685750400-1685836799@www.troef-theater.nl
SUMMARY:Stichting OEABG - Utrecht
DESCRIPTION:Doorgedraaid (besloten optredens)
URL:https://www.troef-theater.nl/event/stichting-oeabg-utrecht/
END:VEVENT
BEGIN:VEVENT
DTSTART;VALUE=DATE:20230601
DTEND;VALUE=DATE:20230602
DTSTAMP:20260423T105658
CREATED:20230122T160922Z
LAST-MODIFIED:20230220T082054Z
UID:9300-1685577600-1685663999@www.troef-theater.nl
SUMMARY:St. Maartenschool - Ubbergen
DESCRIPTION:De liedjeskist
URL:https://www.troef-theater.nl/event/st-maartenschool-2/
CATEGORIES:School
END:VEVENT
BEGIN:VEVENT
DTSTART;VALUE=DATE:20230531
DTEND;VALUE=DATE:20230601
DTSTAMP:20260423T105658
CREATED:20230228T071857Z
LAST-MODIFIED:20230228T071931Z
UID:10670-1685491200-1685577599@www.troef-theater.nl
SUMMARY:Talita Koemi - Nijmegen
DESCRIPTION:Belletje lellen
URL:https://www.troef-theater.nl/event/talita-koemi/
END:VEVENT
BEGIN:VEVENT
DTSTART;VALUE=DATE:20230525
DTEND;VALUE=DATE:20230526
DTSTAMP:20260423T105658
CREATED:20230122T160847Z
LAST-MODIFIED:20230220T082034Z
UID:9299-1684972800-1685059199@www.troef-theater.nl
SUMMARY:Gastlessen - Nijmegen
DESCRIPTION:Muziekles in de klas
URL:https://www.troef-theater.nl/event/gastlessen-cultuur-en-school-2/
END:VEVENT
BEGIN:VEVENT
DTSTART;VALUE=DATE:20230524
DTEND;VALUE=DATE:20230525
DTSTAMP:20260423T105658
CREATED:20230203T230712Z
LAST-MODIFIED:20230220T082018Z
UID:10286-1684886400-1684972799@www.troef-theater.nl
SUMMARY:Windroos Waalsprong - Lent
DESCRIPTION:Niets te wensen
URL:https://www.troef-theater.nl/event/windroos-waalsprong-lent-2/
END:VEVENT
BEGIN:VEVENT
DTSTART;VALUE=DATE:20230524
DTEND;VALUE=DATE:20230525
DTSTAMP:20260423T105658
CREATED:20230122T160640Z
LAST-MODIFIED:20230220T081958Z
UID:9297-1684886400-1684972799@www.troef-theater.nl
SUMMARY:De Luithorst - Nijmegen
DESCRIPTION:Niets te wensen
URL:https://www.troef-theater.nl/event/bs-de-luithorst/
CATEGORIES:School
END:VEVENT
BEGIN:VEVENT
DTSTART;VALUE=DATE:20230521
DTEND;VALUE=DATE:20230522
DTSTAMP:20260423T105658
CREATED:20230122T160505Z
LAST-MODIFIED:20230512T041409Z
UID:9293-1684627200-1684713599@www.troef-theater.nl
SUMMARY:Theater De klif - Nijmegen
DESCRIPTION:Verplaatst (meer info volgt)
URL:https://www.troef-theater.nl/event/theater-de-klif/
CATEGORIES:Theater
END:VEVENT
BEGIN:VEVENT
DTSTART;VALUE=DATE:20230517
DTEND;VALUE=DATE:20230518
DTSTAMP:20260423T105658
CREATED:20230122T160420Z
LAST-MODIFIED:20230220T081925Z
UID:9291-1684281600-1684367999@www.troef-theater.nl
SUMMARY:Gastlessen - Nijmegen
DESCRIPTION:Muziekles in de klas
URL:https://www.troef-theater.nl/event/gastlessen-cultuur-en-school/
END:VEVENT
BEGIN:VEVENT
DTSTART;VALUE=DATE:20230511
DTEND;VALUE=DATE:20230512
DTSTAMP:20260423T105658
CREATED:20230203T231313Z
LAST-MODIFIED:20230220T082644Z
UID:10292-1683763200-1683849599@www.troef-theater.nl
SUMMARY:Montessori Dukenburg - Nijmegen
DESCRIPTION:Niets te wensen
URL:https://www.troef-theater.nl/event/montessori-dukenburg-nijmegen-2/
END:VEVENT
BEGIN:VEVENT
DTSTART;VALUE=DATE:20230511
DTEND;VALUE=DATE:20230512
DTSTAMP:20260423T105658
CREATED:20230203T231028Z
LAST-MODIFIED:20230220T082813Z
UID:10290-1683763200-1683849599@www.troef-theater.nl
SUMMARY:Prins Clausschool - Nijmegen
DESCRIPTION:Niets te wensen
URL:https://www.troef-theater.nl/event/prins-clausschool-nijmegen/
END:VEVENT
BEGIN:VEVENT
DTSTART;VALUE=DATE:20230511
DTEND;VALUE=DATE:20230512
DTSTAMP:20260423T105658
CREATED:20230122T160201Z
LAST-MODIFIED:20230220T081913Z
UID:9285-1683763200-1683849599@www.troef-theater.nl
SUMMARY:Nutsschool Lankforst - Nijmegen
DESCRIPTION:Niets te wensen
URL:https://www.troef-theater.nl/event/nutsschool-lankforst-prins-clausschool/
CATEGORIES:School
END:VEVENT
END:VCALENDAR