BEGIN:VCALENDAR
VERSION:2.0
PRODID:-//Troef Theater - ECPv6.15.20//NONSGML v1.0//EN
CALSCALE:GREGORIAN
METHOD:PUBLISH
X-WR-CALNAME:Troef Theater
X-ORIGINAL-URL:https://www.troef-theater.nl
X-WR-CALDESC:Evenementen voor Troef Theater
REFRESH-INTERVAL;VALUE=DURATION:PT1H
X-Robots-Tag:noindex
X-PUBLISHED-TTL:PT1H
BEGIN:VTIMEZONE
TZID:Europe/Amsterdam
BEGIN:DAYLIGHT
TZOFFSETFROM:+0100
TZOFFSETTO:+0200
TZNAME:CEST
DTSTART:20240331T010000
END:DAYLIGHT
BEGIN:STANDARD
TZOFFSETFROM:+0200
TZOFFSETTO:+0100
TZNAME:CET
DTSTART:20241027T010000
END:STANDARD
BEGIN:DAYLIGHT
TZOFFSETFROM:+0100
TZOFFSETTO:+0200
TZNAME:CEST
DTSTART:20250330T010000
END:DAYLIGHT
BEGIN:STANDARD
TZOFFSETFROM:+0200
TZOFFSETTO:+0100
TZNAME:CET
DTSTART:20251026T010000
END:STANDARD
BEGIN:DAYLIGHT
TZOFFSETFROM:+0100
TZOFFSETTO:+0200
TZNAME:CEST
DTSTART:20260329T010000
END:DAYLIGHT
BEGIN:STANDARD
TZOFFSETFROM:+0200
TZOFFSETTO:+0100
TZNAME:CET
DTSTART:20261025T010000
END:STANDARD
END:VTIMEZONE
BEGIN:VEVENT
DTSTART;VALUE=DATE:20251105
DTEND;VALUE=DATE:20251106
DTSTAMP:20260421T185750
CREATED:20250821T135725Z
LAST-MODIFIED:20250821T135725Z
UID:16926-1762300800-1762387199@www.troef-theater.nl
SUMMARY:KC TOON - Nijmegen
DESCRIPTION:Muziekles in de klas
URL:https://www.troef-theater.nl/event/kc-toon-nijmegen-7/
END:VEVENT
BEGIN:VEVENT
DTSTART;VALUE=DATE:20251105
DTEND;VALUE=DATE:20251106
DTSTAMP:20260421T185750
CREATED:20250821T135618Z
LAST-MODIFIED:20250821T135618Z
UID:16924-1762300800-1762387199@www.troef-theater.nl
SUMMARY:BS De Geldershof - Lent
DESCRIPTION:Muziekles in de klas
URL:https://www.troef-theater.nl/event/bs-de-geldershof-lent/
END:VEVENT
BEGIN:VEVENT
DTSTART;VALUE=DATE:20251030
DTEND;VALUE=DATE:20251031
DTSTAMP:20260421T185750
CREATED:20250615T150216Z
LAST-MODIFIED:20250628T065734Z
UID:16798-1761782400-1761868799@www.troef-theater.nl
SUMMARY:Cultuur en school - Nijmegen
DESCRIPTION:Allemaal beestjes – Voor diverse scholen in de gemeente Nijmegen
URL:https://www.troef-theater.nl/event/cultuur-en-school-nijmegen-10/
END:VEVENT
BEGIN:VEVENT
DTSTART;VALUE=DATE:20251029
DTEND;VALUE=DATE:20251030
DTSTAMP:20260421T185750
CREATED:20250615T150136Z
LAST-MODIFIED:20250628T065653Z
UID:16796-1761696000-1761782399@www.troef-theater.nl
SUMMARY:Cultuur en school - Nijmegen
DESCRIPTION:Allemaal beestjes – Voor diverse scholen in de gemeente Nijmegen
URL:https://www.troef-theater.nl/event/cultuur-en-school-nijmegen-9/
END:VEVENT
BEGIN:VEVENT
DTSTART;VALUE=DATE:20251023
DTEND;VALUE=DATE:20251024
DTSTAMP:20260421T185750
CREATED:20251003T142153Z
LAST-MODIFIED:20251003T142153Z
UID:17189-1761177600-1761263999@www.troef-theater.nl
SUMMARY:Cultuur en school - Nijmegen
DESCRIPTION:Allemaal beestjes – Voor diverse scholen in de gemeente Nijmegen
URL:https://www.troef-theater.nl/event/cultuur-en-school-nijmegen-12/
END:VEVENT
BEGIN:VEVENT
DTSTART;VALUE=DATE:20251022
DTEND;VALUE=DATE:20251023
DTSTAMP:20260421T185750
CREATED:20250916T140943Z
LAST-MODIFIED:20250916T140943Z
UID:17156-1761091200-1761177599@www.troef-theater.nl
SUMMARY:IKC De Regenboog - Bemmel
DESCRIPTION:De liedjeskist
URL:https://www.troef-theater.nl/event/ikc-de-regenboog-bemmel-2/
END:VEVENT
BEGIN:VEVENT
DTSTART;VALUE=DATE:20251022
DTEND;VALUE=DATE:20251023
DTSTAMP:20260421T185750
CREATED:20250916T140915Z
LAST-MODIFIED:20250916T140915Z
UID:17154-1761091200-1761177599@www.troef-theater.nl
SUMMARY:IKC De Doornick - Doornenburg
DESCRIPTION:De liedjeskist
URL:https://www.troef-theater.nl/event/ikc-de-doornick-doornenburg/
END:VEVENT
BEGIN:VEVENT
DTSTART;VALUE=DATE:20251022
DTEND;VALUE=DATE:20251023
DTSTAMP:20260421T185750
CREATED:20250916T140806Z
LAST-MODIFIED:20250916T140806Z
UID:17152-1761091200-1761177599@www.troef-theater.nl
SUMMARY:IKC Donatushof - Bemmel
DESCRIPTION:De liedjeskist
URL:https://www.troef-theater.nl/event/ikc-donatushof-bemmel/
END:VEVENT
BEGIN:VEVENT
DTSTART;VALUE=DATE:20251019
DTEND;VALUE=DATE:20251020
DTSTAMP:20260421T185750
CREATED:20250304T074923Z
LAST-MODIFIED:20250304T074923Z
UID:16096-1760832000-1760918399@www.troef-theater.nl
SUMMARY:Schouwburg - Cuijk
DESCRIPTION:Nieuwe hoed
URL:https://www.troef-theater.nl/event/schouwburg-cuijk-3/
END:VEVENT
BEGIN:VEVENT
DTSTART;VALUE=DATE:20251015
DTEND;VALUE=DATE:20251016
DTSTAMP:20260421T185750
CREATED:20251009T190626Z
LAST-MODIFIED:20251009T190656Z
UID:17265-1760486400-1760572799@www.troef-theater.nl
SUMMARY:Wereldkidz De Vlieger - Veenendaal
DESCRIPTION:Belletje lellen
URL:https://www.troef-theater.nl/event/obs-de-vlieger-veenendaal/
END:VEVENT
BEGIN:VEVENT
DTSTART;VALUE=DATE:20251009
DTEND;VALUE=DATE:20251010
DTSTAMP:20260421T185750
CREATED:20250615T145712Z
LAST-MODIFIED:20250615T145712Z
UID:16794-1759968000-1760054399@www.troef-theater.nl
SUMMARY:De Cambier - Tiel
DESCRIPTION:Schoolconcert
URL:https://www.troef-theater.nl/event/de-cambier-tiel/
END:VEVENT
BEGIN:VEVENT
DTSTART;VALUE=DATE:20251008
DTEND;VALUE=DATE:20251009
DTSTAMP:20260421T185750
CREATED:20250304T074806Z
LAST-MODIFIED:20250304T074806Z
UID:16094-1759881600-1759967999@www.troef-theater.nl
SUMMARY:Elver - Wehl
DESCRIPTION:De liedjeskist
URL:https://www.troef-theater.nl/event/elver-wehl/
END:VEVENT
BEGIN:VEVENT
DTSTART;VALUE=DATE:20251002
DTEND;VALUE=DATE:20251003
DTSTAMP:20260421T185750
CREATED:20250930T183036Z
LAST-MODIFIED:20250930T183036Z
UID:17183-1759363200-1759449599@www.troef-theater.nl
SUMMARY:BS Blink - Vleuten
DESCRIPTION:Belletje lellen
URL:https://www.troef-theater.nl/event/bs-blink-vleuten/
END:VEVENT
BEGIN:VEVENT
DTSTART;VALUE=DATE:20251001
DTEND;VALUE=DATE:20251002
DTSTAMP:20260421T185750
CREATED:20250714T145943Z
LAST-MODIFIED:20250714T145943Z
UID:16891-1759276800-1759363199@www.troef-theater.nl
SUMMARY:Rehobothschool - Veenendaal
DESCRIPTION:Belletje lellen
URL:https://www.troef-theater.nl/event/rehobothschool-veenendaal-2/
END:VEVENT
BEGIN:VEVENT
DTSTART;VALUE=DATE:20250925
DTEND;VALUE=DATE:20250926
DTSTAMP:20260421T185750
CREATED:20250916T140601Z
LAST-MODIFIED:20250916T140601Z
UID:17150-1758758400-1758844799@www.troef-theater.nl
SUMMARY:IKC De Regenboog - Bemmel
DESCRIPTION:Nieuwe hoed
URL:https://www.troef-theater.nl/event/ikc-de-regenboog-bemmel/
END:VEVENT
BEGIN:VEVENT
DTSTART;VALUE=DATE:20250925
DTEND;VALUE=DATE:20250926
DTSTAMP:20260421T185750
CREATED:20250916T140519Z
LAST-MODIFIED:20250916T140519Z
UID:17148-1758758400-1758844799@www.troef-theater.nl
SUMMARY:Dalton BS De Borgwal - Bemmel
DESCRIPTION:Nieuwe hoed
URL:https://www.troef-theater.nl/event/dalton-bs-de-borgwal-bemmel/
END:VEVENT
BEGIN:VEVENT
DTSTART;VALUE=DATE:20250924
DTEND;VALUE=DATE:20250925
DTSTAMP:20260421T185750
CREATED:20250916T140402Z
LAST-MODIFIED:20250916T140440Z
UID:17146-1758672000-1758758399@www.troef-theater.nl
SUMMARY:IKC 't Holthuus - Huissen
DESCRIPTION:Nieuwe hoed
URL:https://www.troef-theater.nl/event/ikc-t-holthuus-huissen/
END:VEVENT
BEGIN:VEVENT
DTSTART;VALUE=DATE:20250924
DTEND;VALUE=DATE:20250925
DTSTAMP:20260421T185750
CREATED:20250916T140314Z
LAST-MODIFIED:20250916T140314Z
UID:17144-1758672000-1758758399@www.troef-theater.nl
SUMMARY:IKC De Abacus - Huissen
DESCRIPTION:Nieuwe hoed
URL:https://www.troef-theater.nl/event/ikc-de-abacus-huissen/
END:VEVENT
BEGIN:VEVENT
DTSTART;VALUE=DATE:20250918
DTEND;VALUE=DATE:20250919
DTSTAMP:20260421T185750
CREATED:20250916T140146Z
LAST-MODIFIED:20250916T140146Z
UID:17142-1758153600-1758239999@www.troef-theater.nl
SUMMARY:Clara Fabriciusschool - Herveld
DESCRIPTION:Nieuwe hoed
URL:https://www.troef-theater.nl/event/clara-fabriciusschool-herveld/
END:VEVENT
BEGIN:VEVENT
DTSTART;VALUE=DATE:20250917
DTEND;VALUE=DATE:20250918
DTSTAMP:20260421T185750
CREATED:20250916T140056Z
LAST-MODIFIED:20250916T140056Z
UID:17140-1758067200-1758153599@www.troef-theater.nl
SUMMARY:OBS De Esdoorn - Elst
DESCRIPTION:Nieuwe hoed
URL:https://www.troef-theater.nl/event/obs-de-esdoorn-elst/
END:VEVENT
BEGIN:VEVENT
DTSTART;VALUE=DATE:20250831
DTEND;VALUE=DATE:20250901
DTSTAMP:20260421T185750
CREATED:20250304T074517Z
LAST-MODIFIED:20250304T074530Z
UID:16092-1756598400-1756684799@www.troef-theater.nl
SUMMARY:Theater De Kik - Elst
DESCRIPTION:Opening seizoen 2025-2026
URL:https://www.troef-theater.nl/event/theater-de-kik-elst-2/
END:VEVENT
BEGIN:VEVENT
DTSTART;VALUE=DATE:20250830
DTEND;VALUE=DATE:20250831
DTSTAMP:20260421T185750
CREATED:20250307T145648Z
LAST-MODIFIED:20250307T145648Z
UID:16113-1756512000-1756598399@www.troef-theater.nl
SUMMARY:Food Festival Buitenplaats - Doetinchem
DESCRIPTION:De liedjeskist
URL:https://www.troef-theater.nl/event/food-festival-buitenplaats-doetinchem/
END:VEVENT
BEGIN:VEVENT
DTSTART;VALUE=DATE:20250817
DTEND;VALUE=DATE:20250818
DTSTAMP:20260421T185750
CREATED:20250419T084715Z
LAST-MODIFIED:20250419T084715Z
UID:16538-1755388800-1755475199@www.troef-theater.nl
SUMMARY:Varsseveldse Volksfeesten - Varsseveld
DESCRIPTION:De liedjeskist
URL:https://www.troef-theater.nl/event/varsseveldse-volksfeesten-varsseveld/
END:VEVENT
BEGIN:VEVENT
DTSTART;VALUE=DATE:20250729
DTEND;VALUE=DATE:20250730
DTSTAMP:20260421T185750
CREATED:20250624T091115Z
LAST-MODIFIED:20250624T091115Z
UID:16824-1753747200-1753833599@www.troef-theater.nl
SUMMARY:BSO De Boomgaard - Nijmegen
DESCRIPTION:KION Vakantietour – De liedjeskist
URL:https://www.troef-theater.nl/event/bso-de-boomgaard-nijmegen/
END:VEVENT
BEGIN:VEVENT
DTSTART;VALUE=DATE:20250729
DTEND;VALUE=DATE:20250730
DTSTAMP:20260421T185750
CREATED:20250624T091003Z
LAST-MODIFIED:20250624T091003Z
UID:16822-1753747200-1753833599@www.troef-theater.nl
SUMMARY:BSO+ Klimop - Nijmegen
DESCRIPTION:KION Vakantietour – De liedjeskist
URL:https://www.troef-theater.nl/event/bso-klimop-nijmegen/
END:VEVENT
BEGIN:VEVENT
DTSTART;VALUE=DATE:20250729
DTEND;VALUE=DATE:20250730
DTSTAMP:20260421T185750
CREATED:20250624T090802Z
LAST-MODIFIED:20250624T091150Z
UID:16820-1753747200-1753833599@www.troef-theater.nl
SUMMARY:BSO Ondersteboven - Nijmegen
DESCRIPTION:KION Vakantietour – De liedjeskist
URL:https://www.troef-theater.nl/event/bso-ondersteboven-nijmegen/
END:VEVENT
BEGIN:VEVENT
DTSTART;VALUE=DATE:20250703
DTEND;VALUE=DATE:20250704
DTSTAMP:20260421T185750
CREATED:20250424T165033Z
LAST-MODIFIED:20250615T150602Z
UID:16543-1751500800-1751587199@www.troef-theater.nl
SUMMARY:De Viersprong - Wijchen
DESCRIPTION:De liedjeskist & workshops
URL:https://www.troef-theater.nl/event/de-viersprong-wijchen/
END:VEVENT
BEGIN:VEVENT
DTSTART;VALUE=DATE:20250702
DTEND;VALUE=DATE:20250703
DTSTAMP:20260421T185750
CREATED:20240906T081848Z
LAST-MODIFIED:20240906T081848Z
UID:15215-1751414400-1751500799@www.troef-theater.nl
SUMMARY:Verrassing - Geheime locatie
DESCRIPTION:Verras de klas
URL:https://www.troef-theater.nl/event/verrassing-geheime-locatie-8/
END:VEVENT
BEGIN:VEVENT
DTSTART;VALUE=DATE:20250626
DTEND;VALUE=DATE:20250627
DTSTAMP:20260421T185750
CREATED:20241126T145900Z
LAST-MODIFIED:20241126T145900Z
UID:15651-1750896000-1750982399@www.troef-theater.nl
SUMMARY:School Alex - Veenendaal
DESCRIPTION:Nieuwe hoed
URL:https://www.troef-theater.nl/event/school-alex-veenendaal/
END:VEVENT
BEGIN:VEVENT
DTSTART;VALUE=DATE:20250625
DTEND;VALUE=DATE:20250626
DTSTAMP:20260421T185750
CREATED:20250527T072456Z
LAST-MODIFIED:20250527T072456Z
UID:16642-1750809600-1750895999@www.troef-theater.nl
SUMMARY:BS Breedeweg - Groesbeek
DESCRIPTION:Het Schoolconcert
URL:https://www.troef-theater.nl/event/bs-breedeweg-groesbeek/
END:VEVENT
END:VCALENDAR