BEGIN:VCALENDAR
VERSION:2.0
PRODID:-//Troef Theater - ECPv6.15.20//NONSGML v1.0//EN
CALSCALE:GREGORIAN
METHOD:PUBLISH
X-ORIGINAL-URL:https://www.troef-theater.nl
X-WR-CALDESC:Evenementen voor Troef Theater
REFRESH-INTERVAL;VALUE=DURATION:PT1H
X-Robots-Tag:noindex
X-PUBLISHED-TTL:PT1H
BEGIN:VTIMEZONE
TZID:Europe/Amsterdam
BEGIN:DAYLIGHT
TZOFFSETFROM:+0100
TZOFFSETTO:+0200
TZNAME:CEST
DTSTART:20230326T010000
END:DAYLIGHT
BEGIN:STANDARD
TZOFFSETFROM:+0200
TZOFFSETTO:+0100
TZNAME:CET
DTSTART:20231029T010000
END:STANDARD
BEGIN:DAYLIGHT
TZOFFSETFROM:+0100
TZOFFSETTO:+0200
TZNAME:CEST
DTSTART:20240331T010000
END:DAYLIGHT
BEGIN:STANDARD
TZOFFSETFROM:+0200
TZOFFSETTO:+0100
TZNAME:CET
DTSTART:20241027T010000
END:STANDARD
BEGIN:DAYLIGHT
TZOFFSETFROM:+0100
TZOFFSETTO:+0200
TZNAME:CEST
DTSTART:20250330T010000
END:DAYLIGHT
BEGIN:STANDARD
TZOFFSETFROM:+0200
TZOFFSETTO:+0100
TZNAME:CET
DTSTART:20251026T010000
END:STANDARD
END:VTIMEZONE
BEGIN:VEVENT
DTSTART;VALUE=DATE:20240314
DTEND;VALUE=DATE:20240315
DTSTAMP:20260423T074000
CREATED:20230915T104926Z
LAST-MODIFIED:20230915T104926Z
UID:12689-1710374400-1710460799@www.troef-theater.nl
SUMMARY:Verrassing - Geheime Locatie
DESCRIPTION:Verras de klas
URL:https://www.troef-theater.nl/event/verrassing-geheime-locatie/
END:VEVENT
BEGIN:VEVENT
DTSTART;VALUE=DATE:20240320
DTEND;VALUE=DATE:20240321
DTSTAMP:20260423T074000
CREATED:20231003T174203Z
LAST-MODIFIED:20231003T174417Z
UID:12794-1710892800-1710979199@www.troef-theater.nl
SUMMARY:BS De Bron - Veenendaal
DESCRIPTION:De Liedjeskist
URL:https://www.troef-theater.nl/event/bs-de-bron-veenendaal/
END:VEVENT
BEGIN:VEVENT
DTSTART;VALUE=DATE:20240321
DTEND;VALUE=DATE:20240322
DTSTAMP:20260423T074000
CREATED:20230915T084903Z
LAST-MODIFIED:20230915T084903Z
UID:12685-1710979200-1711065599@www.troef-theater.nl
SUMMARY:De Gooilandschool - Bussum
DESCRIPTION:Belletje lellen
URL:https://www.troef-theater.nl/event/de-gooilandschool-bussum/
END:VEVENT
BEGIN:VEVENT
DTSTART;VALUE=DATE:20240327
DTEND;VALUE=DATE:20240328
DTSTAMP:20260423T074000
CREATED:20231012T143647Z
LAST-MODIFIED:20231012T145529Z
UID:12842-1711497600-1711583999@www.troef-theater.nl
SUMMARY:St. Maartenschool - Ubbergen
DESCRIPTION:Allemaal beestjes
URL:https://www.troef-theater.nl/event/sint-maartenschool-ubbergen/
END:VEVENT
BEGIN:VEVENT
DTSTART;VALUE=DATE:20240328
DTEND;VALUE=DATE:20240329
DTSTAMP:20260423T074000
CREATED:20231012T143712Z
LAST-MODIFIED:20231012T143806Z
UID:12844-1711584000-1711670399@www.troef-theater.nl
SUMMARY:St. Maartenschool - Ubbergen
DESCRIPTION:Allemaal beestjes
URL:https://www.troef-theater.nl/event/sint-maartenschool-ubbergen-2/
END:VEVENT
BEGIN:VEVENT
DTSTART;VALUE=DATE:20240403
DTEND;VALUE=DATE:20240404
DTSTAMP:20260423T074000
CREATED:20231005T140902Z
LAST-MODIFIED:20231005T140902Z
UID:12821-1712102400-1712188799@www.troef-theater.nl
SUMMARY:KC Westwijzer - Wijchen
DESCRIPTION:Muziekles in de klas
URL:https://www.troef-theater.nl/event/kc-westwijzer-wijchen/
END:VEVENT
BEGIN:VEVENT
DTSTART;VALUE=DATE:20240404
DTEND;VALUE=DATE:20240405
DTSTAMP:20260423T074000
CREATED:20230928T143606Z
LAST-MODIFIED:20231003T174259Z
UID:12725-1712188800-1712275199@www.troef-theater.nl
SUMMARY:Montessorischool - Tiel
DESCRIPTION:Allemaal beestjes
URL:https://www.troef-theater.nl/event/montessorischool-tiel/
END:VEVENT
BEGIN:VEVENT
DTSTART;VALUE=DATE:20240410
DTEND;VALUE=DATE:20240411
DTSTAMP:20260423T074000
CREATED:20230915T082218Z
LAST-MODIFIED:20230915T082218Z
UID:12683-1712707200-1712793599@www.troef-theater.nl
SUMMARY:CBS De Schakel - Veenendaal
DESCRIPTION:Belletje lellen
URL:https://www.troef-theater.nl/event/cbs-de-schakel-veenendaal/
END:VEVENT
BEGIN:VEVENT
DTSTART;VALUE=DATE:20240411
DTEND;VALUE=DATE:20240412
DTSTAMP:20260423T074000
CREATED:20240123T135937Z
LAST-MODIFIED:20240123T135959Z
UID:13780-1712793600-1712879999@www.troef-theater.nl
SUMMARY:MKC Montijn - Beuningen
DESCRIPTION:Allemaal beestjes
URL:https://www.troef-theater.nl/event/kc-montijn-beuningen/
END:VEVENT
BEGIN:VEVENT
DTSTART;VALUE=DATE:20240417
DTEND;VALUE=DATE:20240418
DTSTAMP:20260423T074000
CREATED:20240318T125332Z
LAST-MODIFIED:20240318T125332Z
UID:14052-1713312000-1713398399@www.troef-theater.nl
SUMMARY:Het Zuiderpad - Wijchen
DESCRIPTION:Allemaal beestjes
URL:https://www.troef-theater.nl/event/het-zuiderpad-wijchen/
END:VEVENT
BEGIN:VEVENT
DTSTART;VALUE=DATE:20240418
DTEND;VALUE=DATE:20240419
DTSTAMP:20260423T074000
CREATED:20230823T122917Z
LAST-MODIFIED:20231228T104415Z
UID:12225-1713398400-1713484799@www.troef-theater.nl
SUMMARY:De Bloemberg - Nijmegen
DESCRIPTION:Niets te wensen
URL:https://www.troef-theater.nl/event/de-bloemberg-nijmegen/
END:VEVENT
BEGIN:VEVENT
DTSTART;VALUE=DATE:20240418
DTEND;VALUE=DATE:20240419
DTSTAMP:20260423T074000
CREATED:20230823T123040Z
LAST-MODIFIED:20231228T104518Z
UID:12227-1713398400-1713484799@www.troef-theater.nl
SUMMARY:Prins Mauritsschool - Nijmegen
DESCRIPTION:Niets te wensen
URL:https://www.troef-theater.nl/event/prins-mauritsschool-nijmegen/
END:VEVENT
BEGIN:VEVENT
DTSTART;VALUE=DATE:20240418
DTEND;VALUE=DATE:20240419
DTSTAMP:20260423T074000
CREATED:20240123T140128Z
LAST-MODIFIED:20240123T140128Z
UID:13783-1713398400-1713484799@www.troef-theater.nl
SUMMARY:Michiel de Ruyter - Nijmegen
DESCRIPTION:Niets te wensen
URL:https://www.troef-theater.nl/event/michiel-de-ruyter-nijmegen/
END:VEVENT
BEGIN:VEVENT
DTSTART;VALUE=DATE:20240422
DTEND;VALUE=DATE:20240423
DTSTAMP:20260423T074000
CREATED:20230626T142537Z
LAST-MODIFIED:20231228T104328Z
UID:11971-1713744000-1713830399@www.troef-theater.nl
SUMMARY:Cultuur en school - Nijmegen
DESCRIPTION:Muziekles in de klas (diverse scholen)
URL:https://www.troef-theater.nl/event/cultuur-en-school-nijmegen-2/
END:VEVENT
BEGIN:VEVENT
DTSTART;VALUE=DATE:20240424
DTEND;VALUE=DATE:20240425
DTSTAMP:20260423T074000
CREATED:20230806T085014Z
LAST-MODIFIED:20230806T085044Z
UID:12184-1713916800-1714003199@www.troef-theater.nl
SUMMARY:BS Bernadette - Loo
DESCRIPTION:Muziekles in de klas
URL:https://www.troef-theater.nl/event/bs-bernadette-loo/
END:VEVENT
BEGIN:VEVENT
DTSTART;VALUE=DATE:20240424
DTEND;VALUE=DATE:20240425
DTSTAMP:20260423T074000
CREATED:20230806T085723Z
LAST-MODIFIED:20230806T085723Z
UID:12196-1713916800-1714003199@www.troef-theater.nl
SUMMARY:IKC Joannes - Groessen
DESCRIPTION:Muziekles in de klas
URL:https://www.troef-theater.nl/event/ikc-joannes-groessen/
END:VEVENT
BEGIN:VEVENT
DTSTART;VALUE=DATE:20240425
DTEND;VALUE=DATE:20240426
DTSTAMP:20260423T074000
CREATED:20231115T135706Z
LAST-MODIFIED:20231115T135706Z
UID:13292-1714003200-1714089599@www.troef-theater.nl
SUMMARY:Paschalisschool - Wijchen
DESCRIPTION:Allemaal beestjes
URL:https://www.troef-theater.nl/event/paschalisschool-wijchen/
END:VEVENT
BEGIN:VEVENT
DTSTART;VALUE=DATE:20240427
DTEND;VALUE=DATE:20240428
DTSTAMP:20260423T074000
CREATED:20240315T194730Z
LAST-MODIFIED:20240315T194735Z
UID:14042-1714176000-1714262399@www.troef-theater.nl
SUMMARY:Koningsdag - Ulft
DESCRIPTION:Doorgedraaid
URL:https://www.troef-theater.nl/event/koningsdag-ulft/
END:VEVENT
BEGIN:VEVENT
DTSTART;VALUE=DATE:20240515
DTEND;VALUE=DATE:20240516
DTSTAMP:20260423T074000
CREATED:20230806T085202Z
LAST-MODIFIED:20230806T085202Z
UID:12186-1715731200-1715817599@www.troef-theater.nl
SUMMARY:BS Bernadette - Loo
DESCRIPTION:Muziekles in de klas
URL:https://www.troef-theater.nl/event/bs-bernadette-loo-2/
END:VEVENT
BEGIN:VEVENT
DTSTART;VALUE=DATE:20240515
DTEND;VALUE=DATE:20240516
DTSTAMP:20260423T074000
CREATED:20230806T085845Z
LAST-MODIFIED:20230806T085845Z
UID:12198-1715731200-1715817599@www.troef-theater.nl
SUMMARY:IKC Joannes - Groessen
DESCRIPTION:Muziekles in de klas
URL:https://www.troef-theater.nl/event/ikc-joannes-groessen-2/
END:VEVENT
BEGIN:VEVENT
DTSTART;VALUE=DATE:20240516
DTEND;VALUE=DATE:20240517
DTSTAMP:20260423T074000
CREATED:20240315T183250Z
LAST-MODIFIED:20240315T183340Z
UID:14033-1715817600-1715903999@www.troef-theater.nl
SUMMARY:SBO Klavervier - Beuningen
DESCRIPTION:De Liedjeskist
URL:https://www.troef-theater.nl/event/sbo-klavervier-beuningen/
END:VEVENT
BEGIN:VEVENT
DTSTART;VALUE=DATE:20240522
DTEND;VALUE=DATE:20240523
DTSTAMP:20260423T074000
CREATED:20230806T085228Z
LAST-MODIFIED:20230806T085228Z
UID:12188-1716336000-1716422399@www.troef-theater.nl
SUMMARY:BS Bernadette - Loo
DESCRIPTION:Muziekles in de klas
URL:https://www.troef-theater.nl/event/bs-bernadette-loo-3/
END:VEVENT
BEGIN:VEVENT
DTSTART;VALUE=DATE:20240522
DTEND;VALUE=DATE:20240523
DTSTAMP:20260423T074000
CREATED:20230806T085911Z
LAST-MODIFIED:20230806T085911Z
UID:12200-1716336000-1716422399@www.troef-theater.nl
SUMMARY:IKC Joannes - Groessen
DESCRIPTION:Muziekles in de klas
URL:https://www.troef-theater.nl/event/ikc-joannes-groessen-3/
END:VEVENT
BEGIN:VEVENT
DTSTART;VALUE=DATE:20240523
DTEND;VALUE=DATE:20240524
DTSTAMP:20260423T074000
CREATED:20231005T140932Z
LAST-MODIFIED:20231005T140932Z
UID:12823-1716422400-1716508799@www.troef-theater.nl
SUMMARY:KC Westwijzer - Wijchen
DESCRIPTION:Muziekles in de klas
URL:https://www.troef-theater.nl/event/kc-westwijzer-wijchen-2/
END:VEVENT
BEGIN:VEVENT
DTSTART;VALUE=DATE:20240527
DTEND;VALUE=DATE:20240528
DTSTAMP:20260423T074000
CREATED:20240414T175546Z
LAST-MODIFIED:20240414T175546Z
UID:14260-1716768000-1716854399@www.troef-theater.nl
SUMMARY:BS De Elstar - Elst
DESCRIPTION:Allemaal beestjes
URL:https://www.troef-theater.nl/event/bs-de-elstar-elst/
END:VEVENT
BEGIN:VEVENT
DTSTART;VALUE=DATE:20240529
DTEND;VALUE=DATE:20240530
DTSTAMP:20260423T074000
CREATED:20230625T084305Z
LAST-MODIFIED:20230915T104815Z
UID:11844-1716940800-1717027199@www.troef-theater.nl
SUMMARY:Verrassing - Geheime Locatie
DESCRIPTION:Verras de klas
URL:https://www.troef-theater.nl/event/geheime-locatie/
END:VEVENT
BEGIN:VEVENT
DTSTART;VALUE=DATE:20240530
DTEND;VALUE=DATE:20240531
DTSTAMP:20260423T074000
CREATED:20240111T072729Z
LAST-MODIFIED:20240206T074742Z
UID:13680-1717027200-1717113599@www.troef-theater.nl
SUMMARY:KC De Peppel - Beuningen
DESCRIPTION:De liedjeskist
URL:https://www.troef-theater.nl/event/bs-de-peppel-beuningen/
END:VEVENT
BEGIN:VEVENT
DTSTART;VALUE=DATE:20240603
DTEND;VALUE=DATE:20240604
DTSTAMP:20260423T074000
CREATED:20230806T085259Z
LAST-MODIFIED:20230806T085259Z
UID:12190-1717372800-1717459199@www.troef-theater.nl
SUMMARY:BS Bernadette - Loo
DESCRIPTION:Muziekles in de klas
URL:https://www.troef-theater.nl/event/bs-bernadette-loo-4/
END:VEVENT
BEGIN:VEVENT
DTSTART;VALUE=DATE:20240603
DTEND;VALUE=DATE:20240604
DTSTAMP:20260423T074000
CREATED:20230806T090137Z
LAST-MODIFIED:20230806T090137Z
UID:12205-1717372800-1717459199@www.troef-theater.nl
SUMMARY:IKC Joannes - Groessen
DESCRIPTION:Muziekles in de klas
URL:https://www.troef-theater.nl/event/ikc-joannes-groessen-5/
END:VEVENT
BEGIN:VEVENT
DTSTART;VALUE=DATE:20240605
DTEND;VALUE=DATE:20240606
DTSTAMP:20260423T074000
CREATED:20231009T093124Z
LAST-MODIFIED:20231009T093124Z
UID:12830-1717545600-1717631999@www.troef-theater.nl
SUMMARY:KC De Flief - Zutphen
DESCRIPTION:Allemaal beestjes
URL:https://www.troef-theater.nl/event/kc-de-flief-zutphen/
END:VEVENT
END:VCALENDAR