BEGIN:VCALENDAR
VERSION:2.0
PRODID:-//Troef Theater - ECPv6.15.20//NONSGML v1.0//EN
CALSCALE:GREGORIAN
METHOD:PUBLISH
X-WR-CALNAME:Troef Theater
X-ORIGINAL-URL:https://www.troef-theater.nl
X-WR-CALDESC:Evenementen voor Troef Theater
REFRESH-INTERVAL;VALUE=DURATION:PT1H
X-Robots-Tag:noindex
X-PUBLISHED-TTL:PT1H
BEGIN:VTIMEZONE
TZID:Europe/Amsterdam
BEGIN:DAYLIGHT
TZOFFSETFROM:+0100
TZOFFSETTO:+0200
TZNAME:CEST
DTSTART:20240331T010000
END:DAYLIGHT
BEGIN:STANDARD
TZOFFSETFROM:+0200
TZOFFSETTO:+0100
TZNAME:CET
DTSTART:20241027T010000
END:STANDARD
BEGIN:DAYLIGHT
TZOFFSETFROM:+0100
TZOFFSETTO:+0200
TZNAME:CEST
DTSTART:20250330T010000
END:DAYLIGHT
BEGIN:STANDARD
TZOFFSETFROM:+0200
TZOFFSETTO:+0100
TZNAME:CET
DTSTART:20251026T010000
END:STANDARD
BEGIN:DAYLIGHT
TZOFFSETFROM:+0100
TZOFFSETTO:+0200
TZNAME:CEST
DTSTART:20260329T010000
END:DAYLIGHT
BEGIN:STANDARD
TZOFFSETFROM:+0200
TZOFFSETTO:+0100
TZNAME:CET
DTSTART:20261025T010000
END:STANDARD
BEGIN:DAYLIGHT
TZOFFSETFROM:+0100
TZOFFSETTO:+0200
TZNAME:CEST
DTSTART:20270328T010000
END:DAYLIGHT
BEGIN:STANDARD
TZOFFSETFROM:+0200
TZOFFSETTO:+0100
TZNAME:CET
DTSTART:20271031T010000
END:STANDARD
END:VTIMEZONE
BEGIN:VEVENT
DTSTART;VALUE=DATE:20260325
DTEND;VALUE=DATE:20260326
DTSTAMP:20260422T011143
CREATED:20260205T074435Z
LAST-MODIFIED:20260205T074435Z
UID:17977-1774396800-1774483199@www.troef-theater.nl
SUMMARY:OBS De Hietweide - Twello
DESCRIPTION:Niets te wensen
URL:https://www.troef-theater.nl/event/obs-de-hietweide-twello/
END:VEVENT
BEGIN:VEVENT
DTSTART;VALUE=DATE:20260324
DTEND;VALUE=DATE:20260325
DTSTAMP:20260422T011143
CREATED:20251114T154905Z
LAST-MODIFIED:20251114T154905Z
UID:17467-1774310400-1774396799@www.troef-theater.nl
SUMMARY:Anne Frankschool - Heemskerk
DESCRIPTION:Schoolconcert
URL:https://www.troef-theater.nl/event/anne-frankschool-heemskerk/
END:VEVENT
BEGIN:VEVENT
DTSTART;VALUE=DATE:20260323
DTEND;VALUE=DATE:20260324
DTSTAMP:20260422T011143
CREATED:20251114T154407Z
LAST-MODIFIED:20260302T163130Z
UID:17463-1774224000-1774310399@www.troef-theater.nl
SUMMARY:OBS De Nienekes - Cuijk
DESCRIPTION:Schoolconcert
URL:https://www.troef-theater.nl/event/obs-de-nienekes-cuijk-2/
END:VEVENT
BEGIN:VEVENT
DTSTART;VALUE=DATE:20260322
DTEND;VALUE=DATE:20260323
DTSTAMP:20260422T011143
CREATED:20250304T080242Z
LAST-MODIFIED:20250304T080242Z
UID:16109-1774137600-1774223999@www.troef-theater.nl
SUMMARY:Schouwburg - Cuijk
DESCRIPTION:Allemaal beestjes
URL:https://www.troef-theater.nl/event/schouwburg-cuijk-5/
END:VEVENT
BEGIN:VEVENT
DTSTART;VALUE=DATE:20260319
DTEND;VALUE=DATE:20260320
DTSTAMP:20260422T011143
CREATED:20251028T160929Z
LAST-MODIFIED:20251028T160929Z
UID:17293-1773878400-1773964799@www.troef-theater.nl
SUMMARY:Gooilandschool - Bussum
DESCRIPTION:Allemaal beestjes
URL:https://www.troef-theater.nl/event/gooilandschool-bussum-2/
END:VEVENT
BEGIN:VEVENT
DTSTART;VALUE=DATE:20260318
DTEND;VALUE=DATE:20260319
DTSTAMP:20260422T011143
CREATED:20250916T135706Z
LAST-MODIFIED:20250916T135716Z
UID:17135-1773792000-1773878399@www.troef-theater.nl
SUMMARY:BS De Bron - Veenendaal
DESCRIPTION:Allemaal beestjes
URL:https://www.troef-theater.nl/event/bs-de-bron-veenendaal-2/
END:VEVENT
BEGIN:VEVENT
DTSTART;VALUE=DATE:20260312
DTEND;VALUE=DATE:20260313
DTSTAMP:20260422T011143
CREATED:20260212T155215Z
LAST-MODIFIED:20260212T155319Z
UID:17981-1773273600-1773359999@www.troef-theater.nl
SUMMARY:KC Adriaan van den Ende - Warnsveld
DESCRIPTION:De liedjeskist
URL:https://www.troef-theater.nl/event/kc-adriaan-van-den-ende/
END:VEVENT
BEGIN:VEVENT
DTSTART;VALUE=DATE:20260311
DTEND;VALUE=DATE:20260312
DTSTAMP:20260422T011143
CREATED:20250615T144338Z
LAST-MODIFIED:20250618T060539Z
UID:16792-1773187200-1773273599@www.troef-theater.nl
SUMMARY:Verrassing - Geheime locatie
DESCRIPTION:Verras de klas
URL:https://www.troef-theater.nl/event/geheime-locatie-3/
END:VEVENT
BEGIN:VEVENT
DTSTART;VALUE=DATE:20260308
DTEND;VALUE=DATE:20260309
DTSTAMP:20260422T011143
CREATED:20250304T080059Z
LAST-MODIFIED:20260218T091439Z
UID:16107-1772928000-1773014399@www.troef-theater.nl
SUMMARY:Theater De Klif - Nijmegen
DESCRIPTION:Nieuwe hoed – 14.00 uur en 15.30 uur (extra voorstelling) – Meer info: www.theaterdeklif.nl
URL:https://www.troef-theater.nl/event/theater-de-klif-nijmegen-3/
END:VEVENT
BEGIN:VEVENT
DTSTART;VALUE=DATE:20260304
DTEND;VALUE=DATE:20260305
DTSTAMP:20260422T011143
CREATED:20250716T113716Z
LAST-MODIFIED:20250716T113716Z
UID:16893-1772582400-1772668799@www.troef-theater.nl
SUMMARY:De Vuurvlinder - Veenendaal
DESCRIPTION:Nieuwe hoed
URL:https://www.troef-theater.nl/event/de-vuurvlinder-veenendaal-3/
END:VEVENT
BEGIN:VEVENT
DTSTART;VALUE=DATE:20260226
DTEND;VALUE=DATE:20260227
DTSTAMP:20260422T011143
CREATED:20251003T141854Z
LAST-MODIFIED:20251003T141854Z
UID:17185-1772064000-1772150399@www.troef-theater.nl
SUMMARY:Rehobothschool - Veenendaal
DESCRIPTION:Allemaal beestjes
URL:https://www.troef-theater.nl/event/rehobothschool-veenendaal-3/
END:VEVENT
BEGIN:VEVENT
DTSTART;VALUE=DATE:20260225
DTEND;VALUE=DATE:20260226
DTSTAMP:20260422T011143
CREATED:20260105T153628Z
LAST-MODIFIED:20260105T153734Z
UID:17701-1771977600-1772063999@www.troef-theater.nl
SUMMARY:Wereldkidz De Vlieger - Veenendaal
DESCRIPTION:Muziekles in de klas
URL:https://www.troef-theater.nl/event/wereldkidz-de-vlieger-veenendaal-8/
END:VEVENT
BEGIN:VEVENT
DTSTART;VALUE=DATE:20260219
DTEND;VALUE=DATE:20260220
DTSTAMP:20260422T011143
CREATED:20260107T132539Z
LAST-MODIFIED:20260107T132539Z
UID:17713-1771459200-1771545599@www.troef-theater.nl
SUMMARY:KION - Nijmegen
DESCRIPTION:Nieuwe hoed
URL:https://www.troef-theater.nl/event/kion-nijmegen/
END:VEVENT
BEGIN:VEVENT
DTSTART;VALUE=DATE:20260211
DTEND;VALUE=DATE:20260212
DTSTAMP:20260422T011143
CREATED:20260105T153150Z
LAST-MODIFIED:20260105T153150Z
UID:17693-1770768000-1770854399@www.troef-theater.nl
SUMMARY:Gedachteniskerk - Rhenen
DESCRIPTION:Belletje lellen
URL:https://www.troef-theater.nl/event/gedachteniskerk-rhenen-2/
END:VEVENT
BEGIN:VEVENT
DTSTART;VALUE=DATE:20260128
DTEND;VALUE=DATE:20260129
DTSTAMP:20260422T011143
CREATED:20250821T140431Z
LAST-MODIFIED:20250821T140431Z
UID:16934-1769558400-1769644799@www.troef-theater.nl
SUMMARY:KC De Uitdaging - Nijmegen
DESCRIPTION:Muziekles in de klas
URL:https://www.troef-theater.nl/event/kc-de-uitdaging-nijmegen-2/
END:VEVENT
BEGIN:VEVENT
DTSTART;VALUE=DATE:20260128
DTEND;VALUE=DATE:20260129
DTSTAMP:20260422T011143
CREATED:20250821T140325Z
LAST-MODIFIED:20250821T140325Z
UID:16932-1769558400-1769644799@www.troef-theater.nl
SUMMARY:BS De Oversteek - Nijmegen
DESCRIPTION:Muziekles in de klas
URL:https://www.troef-theater.nl/event/bs-de-oversteek-nijmegen/
END:VEVENT
BEGIN:VEVENT
DTSTART;VALUE=DATE:20260122
DTEND;VALUE=DATE:20260123
DTSTAMP:20260422T011143
CREATED:20250615T150322Z
LAST-MODIFIED:20250628T065817Z
UID:16800-1769040000-1769126399@www.troef-theater.nl
SUMMARY:Cultuur en school - Nijmegen
DESCRIPTION:Allemaal beestjes – Voor diverse scholen in de gemeente Nijmegen
URL:https://www.troef-theater.nl/event/cultuur-en-school-nijmegen-11/
END:VEVENT
BEGIN:VEVENT
DTSTART;VALUE=DATE:20260118
DTEND;VALUE=DATE:20260119
DTSTAMP:20260422T011143
CREATED:20250304T075731Z
LAST-MODIFIED:20250618T055714Z
UID:16103-1768694400-1768780799@www.troef-theater.nl
SUMMARY:Theater De Molen - Beuningen
DESCRIPTION:Allemaal beestjes
URL:https://www.troef-theater.nl/event/theater-de-molen-beuningen-2/
END:VEVENT
BEGIN:VEVENT
DTSTART;VALUE=DATE:20260115
DTEND;VALUE=DATE:20260116
DTSTAMP:20260422T011143
CREATED:20250908T192910Z
LAST-MODIFIED:20250908T192910Z
UID:17051-1768435200-1768521599@www.troef-theater.nl
SUMMARY:Verrassing - Geheime locatie
DESCRIPTION:Verras de klas
URL:https://www.troef-theater.nl/event/verrassing-geheime-locatie-9/
END:VEVENT
BEGIN:VEVENT
DTSTART;VALUE=DATE:20260114
DTEND;VALUE=DATE:20260115
DTSTAMP:20260422T011143
CREATED:20260105T153119Z
LAST-MODIFIED:20260105T153119Z
UID:17691-1768348800-1768435199@www.troef-theater.nl
SUMMARY:Gedachteniskerk - Rhenen
DESCRIPTION:De liedjeskist
URL:https://www.troef-theater.nl/event/gedachteniskerk-rhenen/
END:VEVENT
BEGIN:VEVENT
DTSTART;VALUE=DATE:20251210
DTEND;VALUE=DATE:20251211
DTSTAMP:20260422T011143
CREATED:20251112T070407Z
LAST-MODIFIED:20251112T070407Z
UID:17426-1765324800-1765411199@www.troef-theater.nl
SUMMARY:Wereldkidz De Vlieger - Veenendaal
DESCRIPTION:Kerst in de Liedjesflat
URL:https://www.troef-theater.nl/event/wereldkidz-de-vlieger-veenendaal-7/
END:VEVENT
BEGIN:VEVENT
DTSTART;VALUE=DATE:20251207
DTEND;VALUE=DATE:20251208
DTSTAMP:20260422T011143
CREATED:20250304T075851Z
LAST-MODIFIED:20250304T075851Z
UID:16105-1765065600-1765151999@www.troef-theater.nl
SUMMARY:Schouwburg - Cuijk
DESCRIPTION:De liedjeskist
URL:https://www.troef-theater.nl/event/schouwburg-cuijk-4/
END:VEVENT
BEGIN:VEVENT
DTSTART;VALUE=DATE:20251204
DTEND;VALUE=DATE:20251205
DTSTAMP:20260422T011143
CREATED:20250628T064059Z
LAST-MODIFIED:20250628T065601Z
UID:16864-1764806400-1764892799@www.troef-theater.nl
SUMMARY:CBS De Schakel - Veenendaal
DESCRIPTION:Sinterklaasvoorstelling
URL:https://www.troef-theater.nl/event/de-schakel-veenendaal/
END:VEVENT
BEGIN:VEVENT
DTSTART;VALUE=DATE:20251203
DTEND;VALUE=DATE:20251204
DTSTAMP:20260422T011143
CREATED:20250628T063745Z
LAST-MODIFIED:20250628T065305Z
UID:16860-1764720000-1764806399@www.troef-theater.nl
SUMMARY:Meester G. Propschool - Lochem
DESCRIPTION:Sinterklaasvoorstelling
URL:https://www.troef-theater.nl/event/meester-g-propschool-lochem/
END:VEVENT
BEGIN:VEVENT
DTSTART;VALUE=DATE:20251201
DTEND;VALUE=DATE:20251202
DTSTAMP:20260422T011143
CREATED:20251028T160818Z
LAST-MODIFIED:20251114T155101Z
UID:17291-1764547200-1764633599@www.troef-theater.nl
SUMMARY:Verrassing - Arnhem
DESCRIPTION:Sinterklaasvoorstelling
URL:https://www.troef-theater.nl/event/montessorischool-de-binnenstad-arnhem/
END:VEVENT
BEGIN:VEVENT
DTSTART;VALUE=DATE:20251130
DTEND;VALUE=DATE:20251201
DTSTAMP:20260422T011143
CREATED:20250304T075450Z
LAST-MODIFIED:20251130T074129Z
UID:16101-1764460800-1764547199@www.troef-theater.nl
SUMMARY:Theater De Molen - Beuningen
DESCRIPTION:Sinterklaasvoorstelling – Troef en de verdwenen verlanglijstjes
URL:https://www.troef-theater.nl/event/theater-de-molen-beuningen/
END:VEVENT
BEGIN:VEVENT
DTSTART;VALUE=DATE:20251127
DTEND;VALUE=DATE:20251128
DTSTAMP:20260422T011143
CREATED:20250628T064811Z
LAST-MODIFIED:20250628T070223Z
UID:16868-1764201600-1764287999@www.troef-theater.nl
SUMMARY:Clink! - Overbetuwe
DESCRIPTION:Sinterklaasvoorstelling – Voor diverse scholen in de gemeente Overbetuwe
URL:https://www.troef-theater.nl/event/clink-overbetuwe/
END:VEVENT
BEGIN:VEVENT
DTSTART;VALUE=DATE:20251126
DTEND;VALUE=DATE:20251127
DTSTAMP:20260422T011143
CREATED:20250611T062226Z
LAST-MODIFIED:20250628T065156Z
UID:16774-1764115200-1764201599@www.troef-theater.nl
SUMMARY:SBO De Windroos - Veenendaal
DESCRIPTION:Sinterklaasvoorstelling
URL:https://www.troef-theater.nl/event/sbo-de-windroos-veenendaal-4/
END:VEVENT
BEGIN:VEVENT
DTSTART;VALUE=DATE:20251123
DTEND;VALUE=DATE:20251124
DTSTAMP:20260422T011143
CREATED:20250304T075309Z
LAST-MODIFIED:20251119T195649Z
UID:16099-1763856000-1763942399@www.troef-theater.nl
SUMMARY:Theater De Kik - Elst (Uitverkocht)
DESCRIPTION:Sinterklaasvoorstelling – Troef en de verdwenen verlanglijstjes
URL:https://www.troef-theater.nl/event/theater-de-kik-elst-3/
END:VEVENT
BEGIN:VEVENT
DTSTART;VALUE=DATE:20251120
DTEND;VALUE=DATE:20251121
DTSTAMP:20260422T011143
CREATED:20250628T064647Z
LAST-MODIFIED:20250628T070101Z
UID:16866-1763596800-1763683199@www.troef-theater.nl
SUMMARY:Clink! - Lingewaard
DESCRIPTION:Sinterklaasvoorstelling – Voor diverse scholen in de gemeente Lingewaard
URL:https://www.troef-theater.nl/event/clink-lingewaard/
END:VEVENT
END:VCALENDAR