BEGIN:VCALENDAR
VERSION:2.0
PRODID:-//Troef Theater - ECPv6.15.20//NONSGML v1.0//EN
CALSCALE:GREGORIAN
METHOD:PUBLISH
X-WR-CALNAME:Troef Theater
X-ORIGINAL-URL:https://www.troef-theater.nl
X-WR-CALDESC:Evenementen voor Troef Theater
REFRESH-INTERVAL;VALUE=DURATION:PT1H
X-Robots-Tag:noindex
X-PUBLISHED-TTL:PT1H
BEGIN:VTIMEZONE
TZID:Europe/Amsterdam
BEGIN:DAYLIGHT
TZOFFSETFROM:+0100
TZOFFSETTO:+0200
TZNAME:CEST
DTSTART:20220327T010000
END:DAYLIGHT
BEGIN:STANDARD
TZOFFSETFROM:+0200
TZOFFSETTO:+0100
TZNAME:CET
DTSTART:20221030T010000
END:STANDARD
BEGIN:DAYLIGHT
TZOFFSETFROM:+0100
TZOFFSETTO:+0200
TZNAME:CEST
DTSTART:20230326T010000
END:DAYLIGHT
BEGIN:STANDARD
TZOFFSETFROM:+0200
TZOFFSETTO:+0100
TZNAME:CET
DTSTART:20231029T010000
END:STANDARD
BEGIN:DAYLIGHT
TZOFFSETFROM:+0100
TZOFFSETTO:+0200
TZNAME:CEST
DTSTART:20240331T010000
END:DAYLIGHT
BEGIN:STANDARD
TZOFFSETFROM:+0200
TZOFFSETTO:+0100
TZNAME:CET
DTSTART:20241027T010000
END:STANDARD
END:VTIMEZONE
BEGIN:VEVENT
DTSTART;TZID=Europe/Amsterdam:20230125T120000
DTEND;TZID=Europe/Amsterdam:20230125T170000
DTSTAMP:20260423T043946
CREATED:20230105T230355Z
LAST-MODIFIED:20230121T162055Z
UID:8970-1674648000-1674666000@www.troef-theater.nl
SUMMARY:KC Toon
DESCRIPTION:Project: Muziekles in de klas
URL:https://www.troef-theater.nl/event/kc-toon-2/
CATEGORIES:School
END:VEVENT
BEGIN:VEVENT
DTSTART;VALUE=DATE:20230125
DTEND;VALUE=DATE:20230126
DTSTAMP:20260423T043946
CREATED:20230105T225900Z
LAST-MODIFIED:20230128T222734Z
UID:8968-1674604800-1674691199@www.troef-theater.nl
SUMMARY:De Tapir
DESCRIPTION:Project: muziekles in de klas
URL:https://www.troef-theater.nl/event/de-tapir-2/
CATEGORIES:School
END:VEVENT
BEGIN:VEVENT
DTSTART;TZID=Europe/Amsterdam:20230119T093500
DTEND;TZID=Europe/Amsterdam:20230119T170000
DTSTAMP:20260423T043946
CREATED:20230105T225651Z
LAST-MODIFIED:20230121T162104Z
UID:8965-1674120900-1674147600@www.troef-theater.nl
SUMMARY:NSV2
DESCRIPTION:Project: Muziekles in de klas
URL:https://www.troef-theater.nl/event/nsv2/
CATEGORIES:School
END:VEVENT
BEGIN:VEVENT
DTSTART;TZID=Europe/Amsterdam:20230118T120000
DTEND;TZID=Europe/Amsterdam:20230118T170000
DTSTAMP:20260423T043946
CREATED:20230105T225542Z
LAST-MODIFIED:20230121T162124Z
UID:8963-1674043200-1674061200@www.troef-theater.nl
SUMMARY:KC Toon
DESCRIPTION:Project: Muziekles in de klas
URL:https://www.troef-theater.nl/event/kc-toon/
CATEGORIES:School
END:VEVENT
BEGIN:VEVENT
DTSTART;TZID=Europe/Amsterdam:20230118T090000
DTEND;TZID=Europe/Amsterdam:20230118T170000
DTSTAMP:20260423T043946
CREATED:20221231T115512Z
LAST-MODIFIED:20230121T162127Z
UID:8873-1674032400-1674061200@www.troef-theater.nl
SUMMARY:De Tapir
DESCRIPTION:Project: muziekles in de klas
URL:https://www.troef-theater.nl/event/de-tapir/
CATEGORIES:School
END:VEVENT
BEGIN:VEVENT
DTSTART;TZID=Europe/Amsterdam:20230112T090000
DTEND;TZID=Europe/Amsterdam:20230112T120000
DTSTAMP:20260423T043946
CREATED:20221230T105644Z
LAST-MODIFIED:20230121T162131Z
UID:8865-1673514000-1673524800@www.troef-theater.nl
SUMMARY:SBO De Vlinderboom
DESCRIPTION:Project: Muziekles in de klas
URL:https://www.troef-theater.nl/event/sbo-de-vlinderboom/
END:VEVENT
BEGIN:VEVENT
DTSTART;TZID=Europe/Amsterdam:20230111T090000
DTEND;TZID=Europe/Amsterdam:20230111T113000
DTSTAMP:20260423T043946
CREATED:20221230T101657Z
LAST-MODIFIED:20230121T162135Z
UID:8861-1673427600-1673436600@www.troef-theater.nl
SUMMARY:Jenaplan IKC Donatushof
DESCRIPTION:Project: Muziekles in de klas
URL:https://www.troef-theater.nl/event/jenaplan-ikc-donatushof/
END:VEVENT
END:VCALENDAR