BEGIN:VCALENDAR
VERSION:2.0
PRODID:-//Troef Theater - ECPv6.15.20//NONSGML v1.0//EN
CALSCALE:GREGORIAN
METHOD:PUBLISH
X-WR-CALNAME:Troef Theater
X-ORIGINAL-URL:https://www.troef-theater.nl
X-WR-CALDESC:Evenementen voor Troef Theater
REFRESH-INTERVAL;VALUE=DURATION:PT1H
X-Robots-Tag:noindex
X-PUBLISHED-TTL:PT1H
BEGIN:VTIMEZONE
TZID:Europe/Amsterdam
BEGIN:DAYLIGHT
TZOFFSETFROM:+0100
TZOFFSETTO:+0200
TZNAME:CEST
DTSTART:20230326T010000
END:DAYLIGHT
BEGIN:STANDARD
TZOFFSETFROM:+0200
TZOFFSETTO:+0100
TZNAME:CET
DTSTART:20231029T010000
END:STANDARD
BEGIN:DAYLIGHT
TZOFFSETFROM:+0100
TZOFFSETTO:+0200
TZNAME:CEST
DTSTART:20240331T010000
END:DAYLIGHT
BEGIN:STANDARD
TZOFFSETFROM:+0200
TZOFFSETTO:+0100
TZNAME:CET
DTSTART:20241027T010000
END:STANDARD
BEGIN:DAYLIGHT
TZOFFSETFROM:+0100
TZOFFSETTO:+0200
TZNAME:CEST
DTSTART:20250330T010000
END:DAYLIGHT
BEGIN:STANDARD
TZOFFSETFROM:+0200
TZOFFSETTO:+0100
TZNAME:CET
DTSTART:20251026T010000
END:STANDARD
END:VTIMEZONE
BEGIN:VEVENT
DTSTART;VALUE=DATE:20240427
DTEND;VALUE=DATE:20240428
DTSTAMP:20260423T010115
CREATED:20240315T194730Z
LAST-MODIFIED:20240315T194735Z
UID:14042-1714176000-1714262399@www.troef-theater.nl
SUMMARY:Koningsdag - Ulft
DESCRIPTION:Doorgedraaid
URL:https://www.troef-theater.nl/event/koningsdag-ulft/
END:VEVENT
BEGIN:VEVENT
DTSTART;VALUE=DATE:20240515
DTEND;VALUE=DATE:20240516
DTSTAMP:20260423T010115
CREATED:20230806T085202Z
LAST-MODIFIED:20230806T085202Z
UID:12186-1715731200-1715817599@www.troef-theater.nl
SUMMARY:BS Bernadette - Loo
DESCRIPTION:Muziekles in de klas
URL:https://www.troef-theater.nl/event/bs-bernadette-loo-2/
END:VEVENT
BEGIN:VEVENT
DTSTART;VALUE=DATE:20240515
DTEND;VALUE=DATE:20240516
DTSTAMP:20260423T010115
CREATED:20230806T085845Z
LAST-MODIFIED:20230806T085845Z
UID:12198-1715731200-1715817599@www.troef-theater.nl
SUMMARY:IKC Joannes - Groessen
DESCRIPTION:Muziekles in de klas
URL:https://www.troef-theater.nl/event/ikc-joannes-groessen-2/
END:VEVENT
BEGIN:VEVENT
DTSTART;VALUE=DATE:20240516
DTEND;VALUE=DATE:20240517
DTSTAMP:20260423T010115
CREATED:20240315T183250Z
LAST-MODIFIED:20240315T183340Z
UID:14033-1715817600-1715903999@www.troef-theater.nl
SUMMARY:SBO Klavervier - Beuningen
DESCRIPTION:De Liedjeskist
URL:https://www.troef-theater.nl/event/sbo-klavervier-beuningen/
END:VEVENT
BEGIN:VEVENT
DTSTART;VALUE=DATE:20240522
DTEND;VALUE=DATE:20240523
DTSTAMP:20260423T010115
CREATED:20230806T085228Z
LAST-MODIFIED:20230806T085228Z
UID:12188-1716336000-1716422399@www.troef-theater.nl
SUMMARY:BS Bernadette - Loo
DESCRIPTION:Muziekles in de klas
URL:https://www.troef-theater.nl/event/bs-bernadette-loo-3/
END:VEVENT
BEGIN:VEVENT
DTSTART;VALUE=DATE:20240522
DTEND;VALUE=DATE:20240523
DTSTAMP:20260423T010115
CREATED:20230806T085911Z
LAST-MODIFIED:20230806T085911Z
UID:12200-1716336000-1716422399@www.troef-theater.nl
SUMMARY:IKC Joannes - Groessen
DESCRIPTION:Muziekles in de klas
URL:https://www.troef-theater.nl/event/ikc-joannes-groessen-3/
END:VEVENT
BEGIN:VEVENT
DTSTART;VALUE=DATE:20240523
DTEND;VALUE=DATE:20240524
DTSTAMP:20260423T010115
CREATED:20231005T140932Z
LAST-MODIFIED:20231005T140932Z
UID:12823-1716422400-1716508799@www.troef-theater.nl
SUMMARY:KC Westwijzer - Wijchen
DESCRIPTION:Muziekles in de klas
URL:https://www.troef-theater.nl/event/kc-westwijzer-wijchen-2/
END:VEVENT
BEGIN:VEVENT
DTSTART;VALUE=DATE:20240527
DTEND;VALUE=DATE:20240528
DTSTAMP:20260423T010115
CREATED:20240414T175546Z
LAST-MODIFIED:20240414T175546Z
UID:14260-1716768000-1716854399@www.troef-theater.nl
SUMMARY:BS De Elstar - Elst
DESCRIPTION:Allemaal beestjes
URL:https://www.troef-theater.nl/event/bs-de-elstar-elst/
END:VEVENT
BEGIN:VEVENT
DTSTART;VALUE=DATE:20240529
DTEND;VALUE=DATE:20240530
DTSTAMP:20260423T010115
CREATED:20230625T084305Z
LAST-MODIFIED:20230915T104815Z
UID:11844-1716940800-1717027199@www.troef-theater.nl
SUMMARY:Verrassing - Geheime Locatie
DESCRIPTION:Verras de klas
URL:https://www.troef-theater.nl/event/geheime-locatie/
END:VEVENT
BEGIN:VEVENT
DTSTART;VALUE=DATE:20240530
DTEND;VALUE=DATE:20240531
DTSTAMP:20260423T010115
CREATED:20240111T072729Z
LAST-MODIFIED:20240206T074742Z
UID:13680-1717027200-1717113599@www.troef-theater.nl
SUMMARY:KC De Peppel - Beuningen
DESCRIPTION:De liedjeskist
URL:https://www.troef-theater.nl/event/bs-de-peppel-beuningen/
END:VEVENT
BEGIN:VEVENT
DTSTART;VALUE=DATE:20240603
DTEND;VALUE=DATE:20240604
DTSTAMP:20260423T010115
CREATED:20230806T085259Z
LAST-MODIFIED:20230806T085259Z
UID:12190-1717372800-1717459199@www.troef-theater.nl
SUMMARY:BS Bernadette - Loo
DESCRIPTION:Muziekles in de klas
URL:https://www.troef-theater.nl/event/bs-bernadette-loo-4/
END:VEVENT
BEGIN:VEVENT
DTSTART;VALUE=DATE:20240603
DTEND;VALUE=DATE:20240604
DTSTAMP:20260423T010115
CREATED:20230806T090137Z
LAST-MODIFIED:20230806T090137Z
UID:12205-1717372800-1717459199@www.troef-theater.nl
SUMMARY:IKC Joannes - Groessen
DESCRIPTION:Muziekles in de klas
URL:https://www.troef-theater.nl/event/ikc-joannes-groessen-5/
END:VEVENT
BEGIN:VEVENT
DTSTART;VALUE=DATE:20240605
DTEND;VALUE=DATE:20240606
DTSTAMP:20260423T010115
CREATED:20231009T093124Z
LAST-MODIFIED:20231009T093124Z
UID:12830-1717545600-1717631999@www.troef-theater.nl
SUMMARY:KC De Flief - Zutphen
DESCRIPTION:Allemaal beestjes
URL:https://www.troef-theater.nl/event/kc-de-flief-zutphen/
END:VEVENT
BEGIN:VEVENT
DTSTART;VALUE=DATE:20240605
DTEND;VALUE=DATE:20240606
DTSTAMP:20260423T010115
CREATED:20231009T093210Z
LAST-MODIFIED:20231009T093243Z
UID:12832-1717545600-1717631999@www.troef-theater.nl
SUMMARY:KC De Waaier - Zutphen
DESCRIPTION:Allemaal beestjes
URL:https://www.troef-theater.nl/event/kc-de-waaier-zutphen/
END:VEVENT
BEGIN:VEVENT
DTSTART;VALUE=DATE:20240606
DTEND;VALUE=DATE:20240607
DTSTAMP:20260423T010115
CREATED:20231009T093343Z
LAST-MODIFIED:20231009T093343Z
UID:12834-1717632000-1717718399@www.troef-theater.nl
SUMMARY:KC Lea Dasberg - Zutphen
DESCRIPTION:Allemaal beestjes
URL:https://www.troef-theater.nl/event/kc-lea-dasberg-zutphen/
END:VEVENT
BEGIN:VEVENT
DTSTART;VALUE=DATE:20240608
DTEND;VALUE=DATE:20240609
DTSTAMP:20260423T010115
CREATED:20240325T181846Z
LAST-MODIFIED:20240325T181846Z
UID:14154-1717804800-1717891199@www.troef-theater.nl
SUMMARY:Schaapscheerdersfeest - Ede (kooi Ginkelse Heide)
DESCRIPTION:De Liedjeskist
URL:https://www.troef-theater.nl/event/schaapscheerdersfeest-ede-kooi-ginkelse-heide/
END:VEVENT
BEGIN:VEVENT
DTSTART;VALUE=DATE:20240613
DTEND;VALUE=DATE:20240614
DTSTAMP:20260423T010115
CREATED:20230806T085935Z
LAST-MODIFIED:20230806T090013Z
UID:12202-1718236800-1718323199@www.troef-theater.nl
SUMMARY:IKC Joannes - Groessen
DESCRIPTION:Muziekles in de klas & Cult4Kids
URL:https://www.troef-theater.nl/event/ikc-joannes-groessen-4/
END:VEVENT
BEGIN:VEVENT
DTSTART;VALUE=DATE:20240619
DTEND;VALUE=DATE:20240620
DTSTAMP:20260423T010115
CREATED:20230913T125950Z
LAST-MODIFIED:20230913T130046Z
UID:12659-1718755200-1718841599@www.troef-theater.nl
SUMMARY:De Bargeweide - Eefde
DESCRIPTION:De Liedjeskist
URL:https://www.troef-theater.nl/event/de-bargeweide-eefde/
END:VEVENT
BEGIN:VEVENT
DTSTART;VALUE=DATE:20240620
DTEND;VALUE=DATE:20240621
DTSTAMP:20260423T010115
CREATED:20240206T075755Z
LAST-MODIFIED:20240206T075755Z
UID:13901-1718841600-1718927999@www.troef-theater.nl
SUMMARY:KC De Peppel - Beuningen
DESCRIPTION:Allemaal beestjes
URL:https://www.troef-theater.nl/event/kc-de-peppel-beuningen-2/
END:VEVENT
BEGIN:VEVENT
DTSTART;VALUE=DATE:20240622
DTEND;VALUE=DATE:20240623
DTSTAMP:20260423T010115
CREATED:20240514T185519Z
LAST-MODIFIED:20240604T081953Z
UID:14513-1719014400-1719100799@www.troef-theater.nl
SUMMARY:Midzomerfeest 4.0 - Zevenaar
DESCRIPTION:De Liedjeskist
URL:https://www.troef-theater.nl/event/midzomerfeest-4-0-zevenaar/
END:VEVENT
BEGIN:VEVENT
DTSTART;VALUE=DATE:20240626
DTEND;VALUE=DATE:20240627
DTSTAMP:20260423T010115
CREATED:20230806T085442Z
LAST-MODIFIED:20240101T093400Z
UID:12193-1719360000-1719446399@www.troef-theater.nl
SUMMARY:BS Bernadette - Loo
DESCRIPTION:Muziekles in de klas & Schoolconcert
URL:https://www.troef-theater.nl/event/bs-bernadette-loo-5/
END:VEVENT
BEGIN:VEVENT
DTSTART;VALUE=DATE:20240627
DTEND;VALUE=DATE:20240628
DTSTAMP:20260423T010115
CREATED:20240101T093238Z
LAST-MODIFIED:20240101T093238Z
UID:13631-1719446400-1719532799@www.troef-theater.nl
SUMMARY:Verrassing - Geheime locatie
DESCRIPTION:Schoolconcert
URL:https://www.troef-theater.nl/event/verrassing-geheime-locatie-2/
END:VEVENT
BEGIN:VEVENT
DTSTART;VALUE=DATE:20240703
DTEND;VALUE=DATE:20240704
DTSTAMP:20260423T010115
CREATED:20240529T202321Z
LAST-MODIFIED:20240529T202439Z
UID:14664-1719964800-1720051199@www.troef-theater.nl
SUMMARY:Verrassing - Geheime locatie
DESCRIPTION:Verras de klas
URL:https://www.troef-theater.nl/event/geheime-locatie-2/
END:VEVENT
BEGIN:VEVENT
DTSTART;VALUE=DATE:20240704
DTEND;VALUE=DATE:20240705
DTSTAMP:20260423T010115
CREATED:20240625T144917Z
LAST-MODIFIED:20240625T144949Z
UID:14892-1720051200-1720137599@www.troef-theater.nl
SUMMARY:Verrassing - Geheime locatie
DESCRIPTION:
URL:https://www.troef-theater.nl/event/verrassing-3/
END:VEVENT
BEGIN:VEVENT
DTSTART;VALUE=DATE:20240812
DTEND;VALUE=DATE:20240813
DTSTAMP:20260423T010115
CREATED:20240625T150628Z
LAST-MODIFIED:20240625T150637Z
UID:14896-1723420800-1723507199@www.troef-theater.nl
SUMMARY:Kion Zomertour - Diverse locaties
DESCRIPTION:De Liedjeskist
URL:https://www.troef-theater.nl/event/kion-zomertour/
END:VEVENT
BEGIN:VEVENT
DTSTART;VALUE=DATE:20240816
DTEND;VALUE=DATE:20240817
DTSTAMP:20260423T010115
CREATED:20240315T195409Z
LAST-MODIFIED:20240610T103300Z
UID:14044-1723766400-1723852799@www.troef-theater.nl
SUMMARY:Sonsbeek Theater Avenue - Arnhem
DESCRIPTION:Nieuwe hoed
URL:https://www.troef-theater.nl/event/sonsbeek-theater-avenue-arnhem-3/
END:VEVENT
BEGIN:VEVENT
DTSTART;VALUE=DATE:20240817
DTEND;VALUE=DATE:20240818
DTSTAMP:20260423T010115
CREATED:20240315T195524Z
LAST-MODIFIED:20240817T063649Z
UID:14048-1723852800-1723939199@www.troef-theater.nl
SUMMARY:Sonsbeek Theater Avenue - Arnhem
DESCRIPTION:Nieuwe hoed: 14.00 u – 15.15 u – 16.30 u – 17.45 u
URL:https://www.troef-theater.nl/event/sonsbeek-theater-avenue-arnhem-5/
END:VEVENT
BEGIN:VEVENT
DTSTART;VALUE=DATE:20240818
DTEND;VALUE=DATE:20240819
DTSTAMP:20260423T010115
CREATED:20240315T195546Z
LAST-MODIFIED:20240818T063523Z
UID:14050-1723939200-1724025599@www.troef-theater.nl
SUMMARY:Sonsbeek Theater Avenue - Arnhem
DESCRIPTION:Nieuwe hoed: 12.45 – 14.00 – 15.15 – 16.30 – 17.45
URL:https://www.troef-theater.nl/event/sonsbeek-theater-avenue-arnhem-6/
END:VEVENT
BEGIN:VEVENT
DTSTART;VALUE=DATE:20240821
DTEND;VALUE=DATE:20240822
DTSTAMP:20260423T010115
CREATED:20240315T194047Z
LAST-MODIFIED:20240315T194052Z
UID:14036-1724198400-1724284799@www.troef-theater.nl
SUMMARY:IKC De Wieling - Haalderen
DESCRIPTION:Muziekles in de klas
URL:https://www.troef-theater.nl/event/ikc-de-wieling-haalderen/
END:VEVENT
BEGIN:VEVENT
DTSTART;VALUE=DATE:20240822
DTEND;VALUE=DATE:20240823
DTSTAMP:20260423T010115
CREATED:20240604T081426Z
LAST-MODIFIED:20240604T081426Z
UID:14722-1724284800-1724371199@www.troef-theater.nl
SUMMARY:'t Holthuus - Huissen
DESCRIPTION:Muziekles in de klas
URL:https://www.troef-theater.nl/event/t-holthuus-huissen/
END:VEVENT
END:VCALENDAR