BEGIN:VCALENDAR
VERSION:2.0
PRODID:-//Troef Theater - ECPv6.15.20//NONSGML v1.0//EN
CALSCALE:GREGORIAN
METHOD:PUBLISH
X-WR-CALNAME:Troef Theater
X-ORIGINAL-URL:https://www.troef-theater.nl
X-WR-CALDESC:Evenementen voor Troef Theater
REFRESH-INTERVAL;VALUE=DURATION:PT1H
X-Robots-Tag:noindex
X-PUBLISHED-TTL:PT1H
BEGIN:VTIMEZONE
TZID:Europe/Amsterdam
BEGIN:DAYLIGHT
TZOFFSETFROM:+0100
TZOFFSETTO:+0200
TZNAME:CEST
DTSTART:20220327T010000
END:DAYLIGHT
BEGIN:STANDARD
TZOFFSETFROM:+0200
TZOFFSETTO:+0100
TZNAME:CET
DTSTART:20221030T010000
END:STANDARD
BEGIN:DAYLIGHT
TZOFFSETFROM:+0100
TZOFFSETTO:+0200
TZNAME:CEST
DTSTART:20230326T010000
END:DAYLIGHT
BEGIN:STANDARD
TZOFFSETFROM:+0200
TZOFFSETTO:+0100
TZNAME:CET
DTSTART:20231029T010000
END:STANDARD
BEGIN:DAYLIGHT
TZOFFSETFROM:+0100
TZOFFSETTO:+0200
TZNAME:CEST
DTSTART:20240331T010000
END:DAYLIGHT
BEGIN:STANDARD
TZOFFSETFROM:+0200
TZOFFSETTO:+0100
TZNAME:CET
DTSTART:20241027T010000
END:STANDARD
END:VTIMEZONE
BEGIN:VEVENT
DTSTART;VALUE=DATE:20231102
DTEND;VALUE=DATE:20231103
DTSTAMP:20260423T004843
CREATED:20230530T105431Z
LAST-MODIFIED:20230625T074711Z
UID:11621-1698883200-1698969599@www.troef-theater.nl
SUMMARY:SBO De Vlinderboom - Bemmel
DESCRIPTION:Muziekles in de klas
URL:https://www.troef-theater.nl/event/sbo-de-vlinderboom-bemmel-3/
END:VEVENT
BEGIN:VEVENT
DTSTART;VALUE=DATE:20231101
DTEND;VALUE=DATE:20231102
DTSTAMP:20260423T004843
CREATED:20230529T075132Z
LAST-MODIFIED:20230529T075132Z
UID:11600-1698796800-1698883199@www.troef-theater.nl
SUMMARY:Bernulphusschool - Oosterbeek
DESCRIPTION:Liedjesscheppers
URL:https://www.troef-theater.nl/event/bernulphusschool-oosterbeek-2/
END:VEVENT
BEGIN:VEVENT
DTSTART;VALUE=DATE:20231026
DTEND;VALUE=DATE:20231027
DTSTAMP:20260423T004843
CREATED:20230529T074550Z
LAST-MODIFIED:20230529T074550Z
UID:11596-1698278400-1698364799@www.troef-theater.nl
SUMMARY:BS De Trinoom - Wijchen
DESCRIPTION:Muziekles in de klas
URL:https://www.troef-theater.nl/event/bs-de-trinoom-wijchen-3/
END:VEVENT
BEGIN:VEVENT
DTSTART;VALUE=DATE:20231025
DTEND;VALUE=DATE:20231026
DTSTAMP:20260423T004843
CREATED:20230529T074528Z
LAST-MODIFIED:20230529T074528Z
UID:11593-1698192000-1698278399@www.troef-theater.nl
SUMMARY:BS De Trinoom - Wijchen
DESCRIPTION:Muziekles in de klas
URL:https://www.troef-theater.nl/event/bs-de-trinoom-wijchen-2/
END:VEVENT
BEGIN:VEVENT
DTSTART;VALUE=DATE:20231022
DTEND;VALUE=DATE:20231023
DTSTAMP:20260423T004843
CREATED:20230625T075439Z
LAST-MODIFIED:20230929T071047Z
UID:11836-1697932800-1698019199@www.troef-theater.nl
SUMMARY:Sprookjesfestival - Arnhem
DESCRIPTION:Allemaal beestjes – 11.00 u – 12.30 u – 14.00 u – 15.30 u \nKlik hier voor meer info en reserveren
URL:https://www.troef-theater.nl/event/sprookjesfestival-arnhem-2/
END:VEVENT
BEGIN:VEVENT
DTSTART;VALUE=DATE:20231021
DTEND;VALUE=DATE:20231022
DTSTAMP:20260423T004843
CREATED:20230625T075344Z
LAST-MODIFIED:20230929T071026Z
UID:11834-1697846400-1697932799@www.troef-theater.nl
SUMMARY:Sprookjesfestival - Arnhem
DESCRIPTION:Allemaal beestjes – 11.00 u – 12.30 u – 14.00 u – 15.30 u \nKlik hier voor meer info en reserveren
URL:https://www.troef-theater.nl/event/sprookjesfestival-arnhem/
END:VEVENT
BEGIN:VEVENT
DTSTART;VALUE=DATE:20231014
DTEND;VALUE=DATE:20231015
DTSTAMP:20260423T004843
CREATED:20230220T083905Z
LAST-MODIFIED:20230625T073652Z
UID:10642-1697241600-1697327999@www.troef-theater.nl
SUMMARY:Kindermiddag 'T Begin Van 'T Endt - Herveld
DESCRIPTION:Doorgedraaid
URL:https://www.troef-theater.nl/event/kindermiddag-herveld/
END:VEVENT
BEGIN:VEVENT
DTSTART;VALUE=DATE:20231012
DTEND;VALUE=DATE:20231013
DTSTAMP:20260423T004843
CREATED:20230911T123809Z
LAST-MODIFIED:20230911T123809Z
UID:12617-1697068800-1697155199@www.troef-theater.nl
SUMMARY:ODBS De Wetelaar - Doesburg
DESCRIPTION:Belletje lellen
URL:https://www.troef-theater.nl/event/odbs-de-wetelaar-doesburg/
END:VEVENT
BEGIN:VEVENT
DTSTART;VALUE=DATE:20231012
DTEND;VALUE=DATE:20231013
DTSTAMP:20260423T004843
CREATED:20230911T123734Z
LAST-MODIFIED:20230911T123734Z
UID:12615-1697068800-1697155199@www.troef-theater.nl
SUMMARY:OBS De Horizon - Doesburg
DESCRIPTION:Belletje lellen
URL:https://www.troef-theater.nl/event/obs-de-horizon-doesburg/
END:VEVENT
BEGIN:VEVENT
DTSTART;VALUE=DATE:20231012
DTEND;VALUE=DATE:20231013
DTSTAMP:20260423T004843
CREATED:20230911T123650Z
LAST-MODIFIED:20230911T123650Z
UID:12613-1697068800-1697155199@www.troef-theater.nl
SUMMARY:MKC Anne Frank - Doesburg
DESCRIPTION:Belletje lellen
URL:https://www.troef-theater.nl/event/mkc-anne-frank-doesburg/
END:VEVENT
BEGIN:VEVENT
DTSTART;VALUE=DATE:20231005
DTEND;VALUE=DATE:20231006
DTSTAMP:20260423T004843
CREATED:20230530T105338Z
LAST-MODIFIED:20230530T105338Z
UID:11619-1696464000-1696550399@www.troef-theater.nl
SUMMARY:SBO De Vlinderboom - Bemmel
DESCRIPTION:Muziekles in de klas
URL:https://www.troef-theater.nl/event/sbo-de-vlinderboom-bemmel-2/
END:VEVENT
BEGIN:VEVENT
DTSTART;VALUE=DATE:20231004
DTEND;VALUE=DATE:20231005
DTSTAMP:20260423T004843
CREATED:20230529T071416Z
LAST-MODIFIED:20230529T072938Z
UID:11565-1696377600-1696463999@www.troef-theater.nl
SUMMARY:IKC Donatushof - Bemmel
DESCRIPTION:Muziekles in de klas
URL:https://www.troef-theater.nl/event/ikc-donatushof/
END:VEVENT
BEGIN:VEVENT
DTSTART;VALUE=DATE:20231001
DTEND;VALUE=DATE:20231002
DTSTAMP:20260423T004843
CREATED:20230625T074040Z
LAST-MODIFIED:20230818T075035Z
UID:11828-1696118400-1696204799@www.troef-theater.nl
SUMMARY:Stadsboerderij Gagelsteede - Utrecht
DESCRIPTION:Allemaal beestjes – 14.00 uur en 15.30 uur – Gangesdreef 7A\, Utrecht
URL:https://www.troef-theater.nl/event/stadsboerderij-gagelsteede/
END:VEVENT
BEGIN:VEVENT
DTSTART;VALUE=DATE:20230928
DTEND;VALUE=DATE:20230929
DTSTAMP:20260423T004843
CREATED:20230823T132305Z
LAST-MODIFIED:20230823T132323Z
UID:12230-1695859200-1695945599@www.troef-theater.nl
SUMMARY:Cultuur en school - Nijmegen
DESCRIPTION:Muziekles in de klas (diverse scholen)
URL:https://www.troef-theater.nl/event/cultuur-en-school-nijmegen/
END:VEVENT
BEGIN:VEVENT
DTSTART;VALUE=DATE:20230927
DTEND;VALUE=DATE:20230928
DTSTAMP:20260423T004843
CREATED:20230823T122740Z
LAST-MODIFIED:20230823T122740Z
UID:12223-1695772800-1695859199@www.troef-theater.nl
SUMMARY:IBS Hidaya - Nijmegen
DESCRIPTION:Niets te wensen
URL:https://www.troef-theater.nl/event/ibs-hidaya-nijmegen/
END:VEVENT
BEGIN:VEVENT
DTSTART;VALUE=DATE:20230927
DTEND;VALUE=DATE:20230928
DTSTAMP:20260423T004843
CREATED:20230823T122521Z
LAST-MODIFIED:20230823T122558Z
UID:12221-1695772800-1695859199@www.troef-theater.nl
SUMMARY:BS Sint Laurentius - Kekerdom
DESCRIPTION:Niets te wensen
URL:https://www.troef-theater.nl/event/bs-sint-laurentius-kekerdom/
END:VEVENT
BEGIN:VEVENT
DTSTART;VALUE=DATE:20230927
DTEND;VALUE=DATE:20230928
DTSTAMP:20260423T004843
CREATED:20230823T121737Z
LAST-MODIFIED:20230823T121737Z
UID:12219-1695772800-1695859199@www.troef-theater.nl
SUMMARY:De Kleurencirkel - Nijmegen
DESCRIPTION:Niets te wensen
URL:https://www.troef-theater.nl/event/de-kleurencirkel-nijmegen/
END:VEVENT
BEGIN:VEVENT
DTSTART;VALUE=DATE:20230927
DTEND;VALUE=DATE:20230928
DTSTAMP:20260423T004843
CREATED:20230823T121700Z
LAST-MODIFIED:20230823T121700Z
UID:12217-1695772800-1695859199@www.troef-theater.nl
SUMMARY:Entrea De Berg - Nijmegen
DESCRIPTION:Niets te wensen
URL:https://www.troef-theater.nl/event/entrea-de-berg-nijmegen/
END:VEVENT
BEGIN:VEVENT
DTSTART;VALUE=DATE:20230920
DTEND;VALUE=DATE:20230921
DTSTAMP:20260423T004843
CREATED:20230905T080522Z
LAST-MODIFIED:20230905T080522Z
UID:12516-1695168000-1695254399@www.troef-theater.nl
SUMMARY:IKC Binnenstebuiten - Huissen
DESCRIPTION:De Liedjeskist
URL:https://www.troef-theater.nl/event/ikc-binnenstebuiten-huissen/
END:VEVENT
BEGIN:VEVENT
DTSTART;VALUE=DATE:20230914
DTEND;VALUE=DATE:20230915
DTSTAMP:20260423T004843
CREATED:20230529T074424Z
LAST-MODIFIED:20230529T074424Z
UID:11591-1694649600-1694735999@www.troef-theater.nl
SUMMARY:BS De Trinoom - Wijchen
DESCRIPTION:Muziekles in de klas
URL:https://www.troef-theater.nl/event/bs-de-trinoom-wijchen/
END:VEVENT
BEGIN:VEVENT
DTSTART;VALUE=DATE:20230913
DTEND;VALUE=DATE:20230914
DTSTAMP:20260423T004843
CREATED:20230529T074323Z
LAST-MODIFIED:20230529T074333Z
UID:11588-1694563200-1694649599@www.troef-theater.nl
SUMMARY:BS De Trinoom - Wijchen
DESCRIPTION:Muziekles in de klas
URL:https://www.troef-theater.nl/event/bs-de-trinoom/
END:VEVENT
BEGIN:VEVENT
DTSTART;VALUE=DATE:20230910
DTEND;VALUE=DATE:20230911
DTSTAMP:20260423T004843
CREATED:20230529T073919Z
LAST-MODIFIED:20230529T073919Z
UID:11585-1694304000-1694390399@www.troef-theater.nl
SUMMARY:Theater De KiK - Elst
DESCRIPTION:Opening cultureel seizoen
URL:https://www.troef-theater.nl/event/theater-de-kik-elst/
END:VEVENT
BEGIN:VEVENT
DTSTART;VALUE=DATE:20230906
DTEND;VALUE=DATE:20230907
DTSTAMP:20260423T004843
CREATED:20230529T075014Z
LAST-MODIFIED:20230529T075014Z
UID:11598-1693958400-1694044799@www.troef-theater.nl
SUMMARY:Bernulphusschool - Oosterbeek
DESCRIPTION:Liedjesscheppers
URL:https://www.troef-theater.nl/event/bernulphusschool-oosterbeek/
END:VEVENT
BEGIN:VEVENT
DTSTART;VALUE=DATE:20230902
DTEND;VALUE=DATE:20230903
DTSTAMP:20260423T004843
CREATED:20230220T081226Z
LAST-MODIFIED:20230220T081244Z
UID:10596-1693612800-1693699199@www.troef-theater.nl
SUMMARY:Kermis - Giesbeek
DESCRIPTION:Belletje lellen
URL:https://www.troef-theater.nl/event/kermis-giesbeek/
END:VEVENT
BEGIN:VEVENT
DTSTART;VALUE=DATE:20230831
DTEND;VALUE=DATE:20230901
DTSTAMP:20260423T004843
CREATED:20230530T105251Z
LAST-MODIFIED:20230530T105251Z
UID:11617-1693440000-1693526399@www.troef-theater.nl
SUMMARY:SBO De Vlinderboom - Bemmel
DESCRIPTION:Muziekles in de klas
URL:https://www.troef-theater.nl/event/sbo-de-vlinderboom-bemmel/
END:VEVENT
BEGIN:VEVENT
DTSTART;VALUE=DATE:20230830
DTEND;VALUE=DATE:20230831
DTSTAMP:20260423T004843
CREATED:20230529T071306Z
LAST-MODIFIED:20230529T072911Z
UID:11563-1693353600-1693439999@www.troef-theater.nl
SUMMARY:IKC Donatushof - Bemmel
DESCRIPTION:Muziekles in de klas
URL:https://www.troef-theater.nl/event/donatushof/
END:VEVENT
BEGIN:VEVENT
DTSTART;VALUE=DATE:20230820
DTEND;VALUE=DATE:20230821
DTSTAMP:20260423T004843
CREATED:20230531T195712Z
LAST-MODIFIED:20230818T074825Z
UID:11629-1692489600-1692575999@www.troef-theater.nl
SUMMARY:Sonsbeek Theater Avenue - Arnhem
DESCRIPTION:De liedjeskist
URL:https://www.troef-theater.nl/event/sonsbeek-theater-avenue-arnhem-2/
END:VEVENT
BEGIN:VEVENT
DTSTART;VALUE=DATE:20230819
DTEND;VALUE=DATE:20230820
DTSTAMP:20260423T004843
CREATED:20230531T195627Z
LAST-MODIFIED:20230818T074727Z
UID:11627-1692403200-1692489599@www.troef-theater.nl
SUMMARY:Sonsbeek Theater Avenue - Arnhem
DESCRIPTION:De liedjeskist
URL:https://www.troef-theater.nl/event/sonsbeek-theater-avenue-arnhem/
END:VEVENT
BEGIN:VEVENT
DTSTART;VALUE=DATE:20230810
DTEND;VALUE=DATE:20230811
DTSTAMP:20260423T004843
CREATED:20230706T123830Z
LAST-MODIFIED:20230706T123940Z
UID:12111-1691625600-1691711999@www.troef-theater.nl
SUMMARY:Kion Vakantietour - Nijmegen
DESCRIPTION:De Liedjeskist & workshops
URL:https://www.troef-theater.nl/event/kion-vakantietour/
END:VEVENT
BEGIN:VEVENT
DTSTART;VALUE=DATE:20230713
DTEND;VALUE=DATE:20230714
DTSTAMP:20260423T004843
CREATED:20230529T073258Z
LAST-MODIFIED:20230625T084653Z
UID:11580-1689206400-1689292799@www.troef-theater.nl
SUMMARY:Verrassing - Nijmegen
DESCRIPTION:Schoolconcert
URL:https://www.troef-theater.nl/event/verrassing-nijmegen/
END:VEVENT
END:VCALENDAR