BEGIN:VCALENDAR
VERSION:2.0
PRODID:-//Troef Theater - ECPv6.15.20//NONSGML v1.0//EN
CALSCALE:GREGORIAN
METHOD:PUBLISH
X-WR-CALNAME:Troef Theater
X-ORIGINAL-URL:https://www.troef-theater.nl
X-WR-CALDESC:Evenementen voor Troef Theater
REFRESH-INTERVAL;VALUE=DURATION:PT1H
X-Robots-Tag:noindex
X-PUBLISHED-TTL:PT1H
BEGIN:VTIMEZONE
TZID:Europe/Amsterdam
BEGIN:DAYLIGHT
TZOFFSETFROM:+0100
TZOFFSETTO:+0200
TZNAME:CEST
DTSTART:20220327T010000
END:DAYLIGHT
BEGIN:STANDARD
TZOFFSETFROM:+0200
TZOFFSETTO:+0100
TZNAME:CET
DTSTART:20221030T010000
END:STANDARD
BEGIN:DAYLIGHT
TZOFFSETFROM:+0100
TZOFFSETTO:+0200
TZNAME:CEST
DTSTART:20230326T010000
END:DAYLIGHT
BEGIN:STANDARD
TZOFFSETFROM:+0200
TZOFFSETTO:+0100
TZNAME:CET
DTSTART:20231029T010000
END:STANDARD
BEGIN:DAYLIGHT
TZOFFSETFROM:+0100
TZOFFSETTO:+0200
TZNAME:CEST
DTSTART:20240331T010000
END:DAYLIGHT
BEGIN:STANDARD
TZOFFSETFROM:+0200
TZOFFSETTO:+0100
TZNAME:CET
DTSTART:20241027T010000
END:STANDARD
END:VTIMEZONE
BEGIN:VEVENT
DTSTART;VALUE=DATE:20230524
DTEND;VALUE=DATE:20230525
DTSTAMP:20260423T105821
CREATED:20230122T160640Z
LAST-MODIFIED:20230220T081958Z
UID:9297-1684886400-1684972799@www.troef-theater.nl
SUMMARY:De Luithorst - Nijmegen
DESCRIPTION:Niets te wensen
URL:https://www.troef-theater.nl/event/bs-de-luithorst/
CATEGORIES:School
END:VEVENT
BEGIN:VEVENT
DTSTART;VALUE=DATE:20230521
DTEND;VALUE=DATE:20230522
DTSTAMP:20260423T105821
CREATED:20230122T160505Z
LAST-MODIFIED:20230512T041409Z
UID:9293-1684627200-1684713599@www.troef-theater.nl
SUMMARY:Theater De klif - Nijmegen
DESCRIPTION:Verplaatst (meer info volgt)
URL:https://www.troef-theater.nl/event/theater-de-klif/
CATEGORIES:Theater
END:VEVENT
BEGIN:VEVENT
DTSTART;VALUE=DATE:20230517
DTEND;VALUE=DATE:20230518
DTSTAMP:20260423T105821
CREATED:20230122T160420Z
LAST-MODIFIED:20230220T081925Z
UID:9291-1684281600-1684367999@www.troef-theater.nl
SUMMARY:Gastlessen - Nijmegen
DESCRIPTION:Muziekles in de klas
URL:https://www.troef-theater.nl/event/gastlessen-cultuur-en-school/
END:VEVENT
BEGIN:VEVENT
DTSTART;VALUE=DATE:20230511
DTEND;VALUE=DATE:20230512
DTSTAMP:20260423T105821
CREATED:20230203T231313Z
LAST-MODIFIED:20230220T082644Z
UID:10292-1683763200-1683849599@www.troef-theater.nl
SUMMARY:Montessori Dukenburg - Nijmegen
DESCRIPTION:Niets te wensen
URL:https://www.troef-theater.nl/event/montessori-dukenburg-nijmegen-2/
END:VEVENT
BEGIN:VEVENT
DTSTART;VALUE=DATE:20230511
DTEND;VALUE=DATE:20230512
DTSTAMP:20260423T105821
CREATED:20230203T231028Z
LAST-MODIFIED:20230220T082813Z
UID:10290-1683763200-1683849599@www.troef-theater.nl
SUMMARY:Prins Clausschool - Nijmegen
DESCRIPTION:Niets te wensen
URL:https://www.troef-theater.nl/event/prins-clausschool-nijmegen/
END:VEVENT
BEGIN:VEVENT
DTSTART;VALUE=DATE:20230511
DTEND;VALUE=DATE:20230512
DTSTAMP:20260423T105821
CREATED:20230122T160201Z
LAST-MODIFIED:20230220T081913Z
UID:9285-1683763200-1683849599@www.troef-theater.nl
SUMMARY:Nutsschool Lankforst - Nijmegen
DESCRIPTION:Niets te wensen
URL:https://www.troef-theater.nl/event/nutsschool-lankforst-prins-clausschool/
CATEGORIES:School
END:VEVENT
BEGIN:VEVENT
DTSTART;VALUE=DATE:20230511
DTEND;VALUE=DATE:20230512
DTSTAMP:20260423T105821
CREATED:20230122T160248Z
LAST-MODIFIED:20230220T082705Z
UID:9287-1683763200-1683849599@www.troef-theater.nl
SUMMARY:De Aldenhove - Nijmegen
DESCRIPTION:Niets te wensen
URL:https://www.troef-theater.nl/event/de-aldenhove-montessori-dukenburg/
CATEGORIES:School
END:VEVENT
BEGIN:VEVENT
DTSTART;VALUE=DATE:20230511
DTEND;VALUE=DATE:20230512
DTSTAMP:20260423T105821
CREATED:20230122T160343Z
LAST-MODIFIED:20230220T082626Z
UID:9289-1683763200-1683849599@www.troef-theater.nl
SUMMARY:De Tovercirkel - Malden
DESCRIPTION:Niets te wensen
URL:https://www.troef-theater.nl/event/de-tovercirkel/
CATEGORIES:School
END:VEVENT
BEGIN:VEVENT
DTSTART;VALUE=DATE:20230510
DTEND;VALUE=DATE:20230511
DTSTAMP:20260423T105821
CREATED:20230414T211451Z
LAST-MODIFIED:20230414T212148Z
UID:11193-1683676800-1683763199@www.troef-theater.nl
SUMMARY:'t Holthuus - Huissen
DESCRIPTION:Doorgedraaid
URL:https://www.troef-theater.nl/event/t-holthuus/
END:VEVENT
BEGIN:VEVENT
DTSTART;VALUE=DATE:20230510
DTEND;VALUE=DATE:20230511
DTSTAMP:20260423T105821
CREATED:20230122T160004Z
LAST-MODIFIED:20230220T081902Z
UID:9279-1683676800-1683763199@www.troef-theater.nl
SUMMARY:BS Bernadette - Loo
DESCRIPTION:Muziekles in de klas
URL:https://www.troef-theater.nl/event/bs-bernadette/
CATEGORIES:School
END:VEVENT
BEGIN:VEVENT
DTSTART;VALUE=DATE:20230510
DTEND;VALUE=DATE:20230511
DTSTAMP:20260423T105821
CREATED:20230122T160055Z
LAST-MODIFIED:20230220T082552Z
UID:9281-1683676800-1683763199@www.troef-theater.nl
SUMMARY:IKC Joannes - Groessen
DESCRIPTION:Muziekles in de klas
URL:https://www.troef-theater.nl/event/ikc-joannes-2/
CATEGORIES:School
END:VEVENT
BEGIN:VEVENT
DTSTART;VALUE=DATE:20230427
DTEND;VALUE=DATE:20230428
DTSTAMP:20260423T105821
CREATED:20230220T080437Z
LAST-MODIFIED:20230220T081845Z
UID:10594-1682553600-1682639999@www.troef-theater.nl
SUMMARY:Koningsdag - Varsseveld
DESCRIPTION:Allemaal beestjes
URL:https://www.troef-theater.nl/event/koningsdag-varsseveld/
CATEGORIES:Theater
END:VEVENT
BEGIN:VEVENT
DTSTART;VALUE=DATE:20230420
DTEND;VALUE=DATE:20230421
DTSTAMP:20260423T105821
CREATED:20230122T160038Z
LAST-MODIFIED:20230220T081828Z
UID:9278-1681948800-1682035199@www.troef-theater.nl
SUMMARY:De Vlinderboom - Bemmel
DESCRIPTION:Muziekles in de klas
URL:https://www.troef-theater.nl/event/sbo-de-vlinderboom-4/
CATEGORIES:School
END:VEVENT
BEGIN:VEVENT
DTSTART;VALUE=DATE:20230419
DTEND;VALUE=DATE:20230420
DTSTAMP:20260423T105821
CREATED:20230122T160028Z
LAST-MODIFIED:20230220T081817Z
UID:9277-1681862400-1681948799@www.troef-theater.nl
SUMMARY:IKC Donatushof - Bemmel
DESCRIPTION:Muziekles in de klas
URL:https://www.troef-theater.nl/event/jenaplan-ikc-donatushof-4/
CATEGORIES:School
END:VEVENT
BEGIN:VEVENT
DTSTART;VALUE=DATE:20230413
DTEND;VALUE=DATE:20230414
DTSTAMP:20260423T105821
CREATED:20230122T155621Z
LAST-MODIFIED:20230220T081804Z
UID:9271-1681344000-1681430399@www.troef-theater.nl
SUMMARY:MKC Anne Frank - Doesburg
DESCRIPTION:Doorgedraaid
URL:https://www.troef-theater.nl/event/mkc-anne-frank/
CATEGORIES:School
END:VEVENT
BEGIN:VEVENT
DTSTART;VALUE=DATE:20230413
DTEND;VALUE=DATE:20230414
DTSTAMP:20260423T105821
CREATED:20230122T155857Z
LAST-MODIFIED:20230220T082519Z
UID:9275-1681344000-1681430399@www.troef-theater.nl
SUMMARY:De Horizon - Doesburg
DESCRIPTION:Doorgedraaid
URL:https://www.troef-theater.nl/event/obs-de-horizon/
CATEGORIES:School
END:VEVENT
BEGIN:VEVENT
DTSTART;VALUE=DATE:20230412
DTEND;VALUE=DATE:20230413
DTSTAMP:20260423T105821
CREATED:20230122T160935Z
LAST-MODIFIED:20230310T155615Z
UID:9301-1681257600-1681343999@www.troef-theater.nl
SUMMARY:BS Bernadette - Loo
DESCRIPTION:Muziekles in de klas
URL:https://www.troef-theater.nl/event/bs-bernadette-2/
CATEGORIES:School
END:VEVENT
BEGIN:VEVENT
DTSTART;VALUE=DATE:20230412
DTEND;VALUE=DATE:20230413
DTSTAMP:20260423T105821
CREATED:20230122T155448Z
LAST-MODIFIED:20230220T081748Z
UID:9269-1681257600-1681343999@www.troef-theater.nl
SUMMARY:IKC Joannes - Groessen
DESCRIPTION:Muziekles in de klas
URL:https://www.troef-theater.nl/event/ikc-joannes/
CATEGORIES:School
END:VEVENT
BEGIN:VEVENT
DTSTART;VALUE=DATE:20230406
DTEND;VALUE=DATE:20230407
DTSTAMP:20260423T105821
CREATED:20230122T155721Z
LAST-MODIFIED:20230220T081735Z
UID:9268-1680739200-1680825599@www.troef-theater.nl
SUMMARY:De Vlinderboom - Bemmel
DESCRIPTION:Muziekles in de klas
URL:https://www.troef-theater.nl/event/sbo-de-vlinderboom-3/
CATEGORIES:School
END:VEVENT
BEGIN:VEVENT
DTSTART;VALUE=DATE:20230405
DTEND;VALUE=DATE:20230406
DTSTAMP:20260423T105821
CREATED:20230122T155700Z
LAST-MODIFIED:20230220T081715Z
UID:9267-1680652800-1680739199@www.troef-theater.nl
SUMMARY:IKC Donatushof - Bemmel
DESCRIPTION:Muziekles in de klas
URL:https://www.troef-theater.nl/event/jenaplan-ikc-donatushof-3/
CATEGORIES:School
END:VEVENT
BEGIN:VEVENT
DTSTART;VALUE=DATE:20230330
DTEND;VALUE=DATE:20230331
DTSTAMP:20260423T105821
CREATED:20230122T155347Z
LAST-MODIFIED:20230220T081701Z
UID:9265-1680134400-1680220799@www.troef-theater.nl
SUMMARY:De Schakel - Veenendaal
DESCRIPTION:De liedjeskist
URL:https://www.troef-theater.nl/event/de-schakel/
CATEGORIES:School
END:VEVENT
BEGIN:VEVENT
DTSTART;VALUE=DATE:20230329
DTEND;VALUE=DATE:20230330
DTSTAMP:20260423T105821
CREATED:20230122T155026Z
LAST-MODIFIED:20230220T081649Z
UID:9262-1680048000-1680134399@www.troef-theater.nl
SUMMARY:St. Maartenschool - Ubbergen
DESCRIPTION:Belletje lellen
URL:https://www.troef-theater.nl/event/st-maartenschool/
CATEGORIES:School
END:VEVENT
BEGIN:VEVENT
DTSTART;VALUE=DATE:20230323
DTEND;VALUE=DATE:20230324
DTSTAMP:20260423T105821
CREATED:20230122T154909Z
LAST-MODIFIED:20230220T081515Z
UID:9256-1679529600-1679615999@www.troef-theater.nl
SUMMARY:De Vlinderboom - Bemmel
DESCRIPTION:Muziekles in de klas
URL:https://www.troef-theater.nl/event/sbo-de-vlinderboom-2/
END:VEVENT
BEGIN:VEVENT
DTSTART;VALUE=DATE:20230322
DTEND;VALUE=DATE:20230323
DTSTAMP:20260423T105821
CREATED:20230122T154922Z
LAST-MODIFIED:20230220T081458Z
UID:9255-1679443200-1679529599@www.troef-theater.nl
SUMMARY:IKC Donatushof - Bemmel
DESCRIPTION:Muziekles in de klas
URL:https://www.troef-theater.nl/event/jenaplan-ikc-donatushof-2/
END:VEVENT
BEGIN:VEVENT
DTSTART;VALUE=DATE:20230316
DTEND;VALUE=DATE:20230317
DTSTAMP:20260423T105821
CREATED:20230122T154855Z
LAST-MODIFIED:20230220T081443Z
UID:9254-1678924800-1679011199@www.troef-theater.nl
SUMMARY:NSV2 - Nijmegen
DESCRIPTION:Muziekles in de klas
URL:https://www.troef-theater.nl/event/nsv2-7/
CATEGORIES:School
END:VEVENT
BEGIN:VEVENT
DTSTART;VALUE=DATE:20230315
DTEND;VALUE=DATE:20230316
DTSTAMP:20260423T105821
CREATED:20230122T154834Z
LAST-MODIFIED:20230220T081427Z
UID:9252-1678838400-1678924799@www.troef-theater.nl
SUMMARY:De Tapir - Nijmegen
DESCRIPTION:Muziekles in de klas
URL:https://www.troef-theater.nl/event/de-tapir-7/
CATEGORIES:School
END:VEVENT
BEGIN:VEVENT
DTSTART;VALUE=DATE:20230315
DTEND;VALUE=DATE:20230316
DTSTAMP:20260423T105821
CREATED:20230122T154845Z
LAST-MODIFIED:20230220T082429Z
UID:9253-1678838400-1678924799@www.troef-theater.nl
SUMMARY:KC Toon - Nijmegen
DESCRIPTION:Muziekles in de klas
URL:https://www.troef-theater.nl/event/kc-toon-6/
CATEGORIES:School
END:VEVENT
BEGIN:VEVENT
DTSTART;VALUE=DATE:20230309
DTEND;VALUE=DATE:20230310
DTSTAMP:20260423T105821
CREATED:20230122T154644Z
LAST-MODIFIED:20230220T081406Z
UID:9250-1678320000-1678406399@www.troef-theater.nl
SUMMARY:NSV2 - Nijmegen
DESCRIPTION:Muziekles in de klas
URL:https://www.troef-theater.nl/event/nsv2-6/
CATEGORIES:School
END:VEVENT
BEGIN:VEVENT
DTSTART;VALUE=DATE:20230308
DTEND;VALUE=DATE:20230309
DTSTAMP:20260423T105821
CREATED:20230105T230746Z
LAST-MODIFIED:20230220T081350Z
UID:8984-1678233600-1678319999@www.troef-theater.nl
SUMMARY:De Tapir - Nijmegen
DESCRIPTION:Muziekles in de klas
URL:https://www.troef-theater.nl/event/de-tapir-6/
CATEGORIES:School
END:VEVENT
BEGIN:VEVENT
DTSTART;VALUE=DATE:20230308
DTEND;VALUE=DATE:20230309
DTSTAMP:20260423T105821
CREATED:20230105T230858Z
LAST-MODIFIED:20230220T082456Z
UID:8988-1678233600-1678319999@www.troef-theater.nl
SUMMARY:KC Toon - Nijmegen
DESCRIPTION:Muziekles in de klas
URL:https://www.troef-theater.nl/event/kc-toon-5/
CATEGORIES:School
END:VEVENT
END:VCALENDAR